BEGIN:VCALENDAR
VERSION:2.0
PRODID:-//ChamberMaster//Event Calendar 2.0//EN
METHOD:PUBLISH
X-PUBLISHED-TTL:P3D
REFRESH-INTERVAL:P3D
CALSCALE:GREGORIAN
BEGIN:VEVENT
DTSTART:20080801T230000Z
DTEND:20080802T020000Z
X-MICROSOFT-CDO-ALLDAYEVENT:FALSE
SUMMARY:Jenny Hackett Cancer Benefit at Wool Street
DESCRIPTION:Cancer Benefit at Wool Street Grill.  Jenny Hackett is a local resident who owned and operated Stadium Sports in Cary and has beens battling stage 4 lung cancer.  Come out for free pizza.  Games for kids\, live music\, cash bar.  60's theme - prizes will be awarded for best dressed.  Donations accepted at door.  If you cannot attend and still would like to donate\, send to:"The Jenny Hackett Benefit Fund" P.O. Box 34Cary\, IL 60013
X-ALT-DESC;FMTTYPE=text/html:<div>Cancer Benefit at Wool Street Grill.&nbsp\; Jenny Hackett is a local resident who&nbsp\;owned and operated Stadium Sports in Cary and has beens battling stage 4 lung cancer.&nbsp\; Come out for free pizza.&nbsp\; Games for kids\, live music\, cash bar.&nbsp\; 60's theme - prizes will be awarded for best dressed.&nbsp\; Donations accepted at door.&nbsp\; If you cannot attend and still would like to donate\, send to:</div><div>&quot\;The Jenny Hackett Benefit Fund&quot\;&nbsp\;</div><div>P.O. Box 34</div><div>Cary\, IL 60013</div>
LOCATION:Wool Street Grill & Sports Bar800 Feinberg Court\, Cary
UID:e.138.283
SEQUENCE:3
DTSTAMP:20260425T105335Z
URL:https://business.carygrovechamber.com/events/details/jenny-hackett-cancer-benefit-at-wool-street-08-01-2008-283
END:VEVENT

END:VCALENDAR
