BEGIN:VCALENDAR
VERSION:2.0
PRODID:-//ChamberMaster//Event Calendar 2.0//EN
METHOD:PUBLISH
X-PUBLISHED-TTL:P3D
REFRESH-INTERVAL:P3D
CALSCALE:GREGORIAN
BEGIN:VEVENT
DTSTART;VALUE=DATE:20080418
DTEND;VALUE=DATE:20080419
TRANSP:TRANSPARENT
X-MICROSOFT-CDO-ALLDAYEVENT:TRUE
SUMMARY:Jim Brickman
DESCRIPTION:Jim Brickman returns to Raue Center to present his revolutionary sound of adult contemporary music with his pop-style solo piano. His remarkable career includes six gold and platinum selling albums\, three #1 and 12 top 10 adult contemporary radio hits\, consistent debuts at #1 on Billboard Magazine?s New Age chart and a Grammy Award nomination in 2003. Brickman has collaborated with many artists including Martina McBride\, Carly Simon\, Kenny Loggins\, Michael Bolton and Collin Raye.
X-ALT-DESC;FMTTYPE=text/html:Jim Brickman returns to Raue Center to present his revolutionary sound of adult contemporary music with his pop-style solo piano. His remarkable career includes six gold and platinum selling albums\, three #1 and 12 top 10 adult contemporary radio hits\, consistent debuts at #1 on Billboard Magazine?s New Age chart and a Grammy Award nomination in 2003. Brickman has collaborated with many artists including Martina McBride\, Carly Simon\, Kenny Loggins\, Michael Bolton and Collin Raye.
LOCATION:Raue Center For The Arts 26 N. Williams Street Crystal Lake\, IL 60014
UID:e.138.173
SEQUENCE:3
DTSTAMP:20260425T165244Z
URL:https://business.carygrovechamber.com/events/details/jim-brickman-04-18-2008-173
END:VEVENT

END:VCALENDAR
