BEGIN:VCALENDAR
VERSION:2.0
PRODID:-//ChamberMaster//Event Calendar 2.0//EN
METHOD:PUBLISH
X-PUBLISHED-TTL:P3D
REFRESH-INTERVAL:P3D
CALSCALE:GREGORIAN
BEGIN:VEVENT
DTSTART:20090222T033000Z
DTEND:20090221T070000Z
X-MICROSOFT-CDO-ALLDAYEVENT:FALSE
SUMMARY:Karaoke Event at Tony V's II
DESCRIPTION:Karaoke
X-ALT-DESC;FMTTYPE=text/html:Karaoke
LOCATION:6506 Silver Lake Road Cary
UID:e.138.406
SEQUENCE:3
DTSTAMP:20260425T022709Z
URL:https://business.carygrovechamber.com/events/details/karaoke-event-at-tony-v-s-ii-02-21-2009-406
END:VEVENT

END:VCALENDAR
