BEGIN:VCALENDAR
VERSION:2.0
PRODID:-//ChamberMaster//Event Calendar 2.0//EN
METHOD:PUBLISH
X-PUBLISHED-TTL:P3D
REFRESH-INTERVAL:P3D
CALSCALE:GREGORIAN
BEGIN:VEVENT
DTSTART;VALUE=DATE:20090815
DTEND;VALUE=DATE:20090816
TRANSP:TRANSPARENT
X-MICROSOFT-CDO-ALLDAYEVENT:TRUE
SUMMARY:Kids Garage Sale
DESCRIPTION:Come out and get some cool stuff at the Kids Garage Sale on Saturday\, August 15 from10 a.m. to 1 p.m. at Lions Park on Silver Lake Road in Cary. Kids\, you can sell your stuff and make some money!  Clean out your closets and under your beds and sell your unwanted toys\, games\, books\, and other objects. Space is still available. Pre-registration is required. Registration is $5 (n/r $8). Each child will be assigned one parking space at Lions Park to sell belongings. Register at the Cary Park District Community Center. For more information\, visit www.carypark.com or contact the Cary Park District at (847) 639-6100.
X-ALT-DESC;FMTTYPE=text/html:<div>Come out and get some cool stuff at the Kids Garage Sale on Saturday\, August 15 from10 a.m. to 1 p.m. at Lions Park on Silver Lake Road in Cary.</div><div>&nbsp\;</div><div>Kids\, you can sell your stuff and make some money!&nbsp\; Clean out your closets and under your beds and sell your unwanted toys\, games\, books\, and other objects.&nbsp\;Space is still available. Pre-registration is required. Registration is $5 (n/r $8). Each child will be assigned one parking space at Lions Park to sell belongings. Register at the Cary Park District Community Center. For more information\, visit www.carypark.com or contact the Cary Park District at (847) 639-6100.</div>
LOCATION:Lions Park on Silver Lake Road in Cary
UID:e.138.536
SEQUENCE:3
DTSTAMP:20260424T181154Z
URL:https://business.carygrovechamber.com/events/details/kids-garage-sale-08-15-2009-536
END:VEVENT

END:VCALENDAR
