BEGIN:VCALENDAR
VERSION:2.0
PRODID:-//ChamberMaster//Event Calendar 2.0//EN
METHOD:PUBLISH
X-PUBLISHED-TTL:P3D
REFRESH-INTERVAL:P3D
CALSCALE:GREGORIAN
BEGIN:VEVENT
DTSTART:20091015T230000Z
DTEND:20091016T020000Z
X-MICROSOFT-CDO-ALLDAYEVENT:FALSE
SUMMARY:Ladies Night of Indulgence
DESCRIPTION:Cary Chiropractic is hosting Ladies Night of Indulgence along with Pink Hair for Hope Fundraiser! A night for you and your best girls! Celebrate health and wellness in good company while indulging in massage\, skin care\, nutrition and much more. All while joining the fight against breast cancer with pink hair extensions! Presented along with Less Stress Massage Therapy\, Mary Kay\, New Balance Shoes\, Cardinal Fitness\, fitness trainer Charmaine Ebert\, Cary Park District Yoga instructor\, ABC Cosmetology\, Pampered Chef and many more.
X-ALT-DESC;FMTTYPE=text/html:<div>Cary Chiropractic is hosting Ladies Night of Indulgence along with Pink Hair for Hope Fundraiser! A night for you and your best girls! Celebrate health and wellness in good company while indulging in massage\, skin care\, nutrition and much more. All while joining the fight against breast cancer with pink hair extensions! Presented along with Less Stress Massage Therapy\, Mary Kay\, New Balance Shoes\, Cardinal Fitness\, fitness trainer Charmaine Ebert\, Cary Park District Yoga instructor\, ABC Cosmetology\, Pampered Chef and many more.</div>
LOCATION:Cary Chiropractic Offices395 C Cary Algonquin Rd Cary\, IL
UID:e.138.595
SEQUENCE:3
DTSTAMP:20260424T154430Z
URL:https://business.carygrovechamber.com/events/details/ladies-night-of-indulgence-10-15-2009-595
END:VEVENT

END:VCALENDAR
