BEGIN:VCALENDAR
VERSION:2.0
PRODID:-//ChamberMaster//Event Calendar 2.0//EN
METHOD:PUBLISH
X-PUBLISHED-TTL:P3D
REFRESH-INTERVAL:P3D
CALSCALE:GREGORIAN
BEGIN:VEVENT
DTSTART;VALUE=DATE:20100318
DTEND;VALUE=DATE:20100319
TRANSP:TRANSPARENT
X-MICROSOFT-CDO-ALLDAYEVENT:TRUE
SUMMARY:Ladies Night Out - Lulu's Wiggin Out
DESCRIPTION:Lulu's Wiggin Out along with several downtown Crystal Lake businesses are having a Ladies Night Out on Thursday\, March 18 from 5 to 8 p.m.  There will be giveaways\, food\, fun and discounts.  Lulu's is located at 63 N. Williams Street in Crystal Lake.  To reach them\, call (815) 356-9900 or visit www.luluswigginout.com.
X-ALT-DESC;FMTTYPE=text/html:<div><p class="MsoNormal" style="line-height: 14.4pt\; margin: 0in 0in 0pt"><b style="mso-bidi-font-weight: normal"><span style="font-family: Arial\; color: black\; font-size: 11pt\; mso-font-kerning: 1.0pt\; mso-bidi-font-size: 10.0pt">Lulu&rsquo\;s Wiggin Out</span></b><span style="font-family: Arial\; color: black\; font-size: 11pt\; mso-font-kerning: 1.0pt\; mso-bidi-font-size: 10.0pt"> along with several downtown </span><st1:city><st1:place><span style="font-family: Arial\; color: black\; font-size: 11pt\; mso-font-kerning: 1.0pt\; mso-bidi-font-size: 10.0pt">Crystal Lake</span></st1:place></st1:city><span style="font-family: Arial\; color: black\; font-size: 11pt\; mso-font-kerning: 1.0pt\; mso-bidi-font-size: 10.0pt"> businesses are having a Ladies Night Out on Thursday\, March 18 from </span><st1:time hour="17" minute="0"><span style="font-family: Arial\; color: black\; font-size: 11pt\; mso-font-kerning: 1.0pt\; mso-bidi-font-size: 10.0pt">5</span></st1:time><span style="font-family: Arial\; color: black\; font-size: 11pt\; mso-font-kerning: 1.0pt\; mso-bidi-font-size: 10.0pt"> to </span><st1:time hour="20" minute="0"><span style="font-family: Arial\; color: black\; font-size: 11pt\; mso-font-kerning: 1.0pt\; mso-bidi-font-size: 10.0pt">8 p.m.</span></st1:time><span style="font-family: Arial\; color: black\; font-size: 11pt\; mso-font-kerning: 1.0pt\; mso-bidi-font-size: 10.0pt"><span style="mso-spacerun: yes">&nbsp\; </span>There will be giveaways\, food\, fun and discounts.<span style="mso-spacerun: yes">&nbsp\; </span>Lulu&rsquo\;s is located at </span><st1:street><st1:address><span style="font-family: Arial\; color: black\; font-size: 11pt\; mso-font-kerning: 1.0pt\; mso-bidi-font-size: 10.0pt">63 N. </span><st1:personname><span style="font-family: Arial\; color: black\; font-size: 11pt\; mso-font-kerning: 1.0pt\; mso-bidi-font-size: 10.0pt">Williams</span></st1:personname><span style="font-family: Arial\; color: black\; font-size: 11pt\; mso-font-kerning: 1.0pt\; mso-bidi-font-size: 10.0pt"> Street</span></st1:address></st1:street><span style="font-family: Arial\; color: black\; font-size: 11pt\; mso-font-kerning: 1.0pt\; mso-bidi-font-size: 10.0pt"> in </span><st1:city><st1:place><span style="font-family: Arial\; color: black\; font-size: 11pt\; mso-font-kerning: 1.0pt\; mso-bidi-font-size: 10.0pt">Crystal Lake</span></st1:place></st1:city><span style="font-family: Arial\; color: black\; font-size: 11pt\; mso-font-kerning: 1.0pt\; mso-bidi-font-size: 10.0pt">.<span style="mso-spacerun: yes">&nbsp\; </span>To reach them\, call (815) 356-9900 or visit www.luluswigginout.com.<o:p></o:p></span></p></div>
LOCATION:Lulu's Wiggin OutDowntown Crystal Lake63 N. Williams Street
UID:e.138.775
SEQUENCE:3
DTSTAMP:20260424T111316Z
URL:https://business.carygrovechamber.com/events/details/ladies-night-out-lulu-s-wiggin-out-03-18-2010-775
END:VEVENT

END:VCALENDAR
