BEGIN:VCALENDAR
VERSION:2.0
PRODID:-//ChamberMaster//Event Calendar 2.0//EN
METHOD:PUBLISH
X-PUBLISHED-TTL:P3D
REFRESH-INTERVAL:P3D
CALSCALE:GREGORIAN
BEGIN:VEVENT
DTSTART:20101019T233000Z
DTEND:20101020T010000Z
X-MICROSOFT-CDO-ALLDAYEVENT:FALSE
SUMMARY:Latest Advances in the Treatment of Prostate Cancer and Enlarged Prostate
DESCRIPTION:According to the prostate Cancer Foundation\, prostate cancer affects 1 in 6 men.  David Goldrath M.D. board certified urologist will discuss the latest treatments for enlarged prostate.  You will also find out how robotic technology is improving men's health outcomes by reducing incision size and pain.  Space is limited for men and their guests only.
X-ALT-DESC;FMTTYPE=text/html:According to the prostate Cancer Foundation\, prostate cancer affects 1 in 6 men.  David Goldrath M.D. board certified urologist will discuss the latest treatments for enlarged prostate.  You will also find out how robotic technology is improving men's health outcomes by reducing incision size and pain.  Space is limited for men and their guests only.
LOCATION:Advocate Good Shepherd Hospital Prairie Room 450 W. Highway 22 Barrington\, IL 60010
UID:e.138.936
SEQUENCE:3
DTSTAMP:20260423T214445Z
URL:https://business.carygrovechamber.com/events/details/latest-advances-in-the-treatment-of-prostate-cancer-and-enlarged-prostate-10-19-2010-936
END:VEVENT

END:VCALENDAR
