BEGIN:VCALENDAR
VERSION:2.0
PRODID:-//ChamberMaster//Event Calendar 2.0//EN
METHOD:PUBLISH
X-PUBLISHED-TTL:P3D
REFRESH-INTERVAL:P3D
CALSCALE:GREGORIAN
BEGIN:VEVENT
DTSTART:20120515T233000Z
DTEND:20120516T010000Z
X-MICROSOFT-CDO-ALLDAYEVENT:FALSE
SUMMARY:Latest Developments in Breast Cancer Screenings
DESCRIPTION:5/15/2012\n\nLatest Developments in Breast Cancer Screenings\n\nClass Code: 3C59\n\n\n\nBreast Cancer is the most common cancer among American women\, aside from skin cancer. Please join Kevin Kirshenbaum MD\, board certified radiologist\, as he shares his expert knowledge on the history of Breast Cancer and the importance of screening.
X-ALT-DESC;FMTTYPE=text/html:5/15/2012<br />\nLatest Developments in Breast Cancer Screenings<br />\nClass Code: 3C59<br />\n<br />\nBreast Cancer is the most common cancer among American women\, aside from skin cancer. Please join Kevin Kirshenbaum MD\, board certified radiologist\, as he shares his expert knowledge on the history of Breast Cancer and the importance of screening.<br />\n<br />\n
LOCATION:Advocate Good Shepherd Hospital 450 W. Highway 22 Barrington\, IL
UID:e.138.2726
SEQUENCE:3
DTSTAMP:20260424T074158Z
URL:https://business.carygrovechamber.com/events/details/latest-developments-in-breast-cancer-screenings-05-15-2012-2726
END:VEVENT

END:VCALENDAR
