BEGIN:VCALENDAR
VERSION:2.0
PRODID:-//ChamberMaster//Event Calendar 2.0//EN
METHOD:PUBLISH
X-PUBLISHED-TTL:P3D
REFRESH-INTERVAL:P3D
CALSCALE:GREGORIAN
BEGIN:VEVENT
DTSTART:20090924T163000Z
DTEND:20090924T180000Z
X-MICROSOFT-CDO-ALLDAYEVENT:FALSE
SUMMARY:Latest Developments in Breast Cancer Screenings
DESCRIPTION:Mid Day Health Connections\n"Latest Developments in Breast Cancer Screenings"\nIn 2008\, an estimated 182\,460 new cases of invasive breast cancer will be diagnosed among women in the United States.  Kevin Kirshenbaum M.D.\, Board Certified Radiologist with Wellington Radiology Group will share his expert knowledge on the history of breast cancer\, screening for breast cancer and the importance of early detection.
X-ALT-DESC;FMTTYPE=text/html:Mid Day Health Connections\n"Latest Developments in Breast Cancer Screenings"\nIn 2008\, an estimated 182\,460 new cases of invasive breast cancer will be diagnosed among women in the United States.  Kevin Kirshenbaum M.D.\, Board Certified Radiologist with Wellington Radiology Group will share his expert knowledge on the history of breast cancer\, screening for breast cancer and the importance of early detection.  \n
LOCATION:Advocate Good Shepherd Outpatient Center-CRYSTAL LAKE 525 Congress Parkway Crystal Lake\, IL 60014
UID:e.138.458
SEQUENCE:3
DTSTAMP:20260424T152954Z
URL:https://business.carygrovechamber.com/events/details/latest-developments-in-breast-cancer-screenings-09-24-2009-458
END:VEVENT

END:VCALENDAR
