BEGIN:VCALENDAR
VERSION:2.0
PRODID:-//ChamberMaster//Event Calendar 2.0//EN
METHOD:PUBLISH
X-PUBLISHED-TTL:P3D
REFRESH-INTERVAL:P3D
CALSCALE:GREGORIAN
BEGIN:VEVENT
DTSTART:20090516T150000Z
DTEND:20090516T190000Z
X-MICROSOFT-CDO-ALLDAYEVENT:FALSE
SUMMARY:Lee's Martial Arts Car Wash
DESCRIPTION:Lee's Martial ArtsCar WashSaturday\, May 1610 a.m. - 2 p.m.Free\, donations appreciated.Fundraiser
X-ALT-DESC;FMTTYPE=text/html:<div><font size="4">Lee's Martial Arts</font></div><div><font size="4">Car Wash</font></div><div><font size="4">Saturday\, May 16</font></div><div><font size="4">10 a.m. - 2 p.m.</font></div><div><font size="4">Free\, donations appreciated.</font></div><div><font size="4">Fundraiser</font></div>
LOCATION:at Lee's Martial Arts\, 678 Northwest Hwy.\, Cary
UID:e.138.468
SEQUENCE:3
DTSTAMP:20260424T214823Z
URL:https://business.carygrovechamber.com/events/details/lee-s-martial-arts-car-wash-05-16-2009-468
END:VEVENT

END:VCALENDAR
