BEGIN:VCALENDAR
VERSION:2.0
PRODID:-//ChamberMaster//Event Calendar 2.0//EN
METHOD:PUBLISH
X-PUBLISHED-TTL:P3D
REFRESH-INTERVAL:P3D
CALSCALE:GREGORIAN
BEGIN:VEVENT
DTSTART:20090721T233000Z
DTEND:20090722T013000Z
X-MICROSOFT-CDO-ALLDAYEVENT:FALSE
SUMMARY:Let's Face It! Explore Rejuvenating and Enhancing Your Facial Beauty
DESCRIPTION:Mirror\, mirror on the wall who is the fairest of them all.  Facial cosmetic surgery has come a long way since it's beginning.  Technological advances have increased the options for cosmetic surgery.  Gunnar Thorr M.D. certified plastic surgeon with Midwest Plastic Surgery Specialists will discuss the latest enhancement techniques and surgical procedures.
X-ALT-DESC;FMTTYPE=text/html:Mirror\, mirror on the wall who is the fairest of them all.  Facial cosmetic surgery has come a long way since it's beginning.  Technological advances have increased the options for cosmetic surgery.  Gunnar Thorr M.D. certified plastic surgeon with Midwest Plastic Surgery Specialists will discuss the latest enhancement techniques and surgical procedures.
LOCATION:Advocate Good Shepherd Hospital Prairie Room 450 W. Highway 22 Barrington\, IL 60010
UID:e.138.419
SEQUENCE:3
DTSTAMP:20260424T181240Z
URL:https://business.carygrovechamber.com/events/details/let-s-face-it-explore-rejuvenating-and-enhancing-your-facial-beauty-07-21-2009-419
END:VEVENT

END:VCALENDAR
