BEGIN:VCALENDAR
VERSION:2.0
PRODID:-//ChamberMaster//Event Calendar 2.0//EN
METHOD:PUBLISH
X-PUBLISHED-TTL:P3D
REFRESH-INTERVAL:P3D
CALSCALE:GREGORIAN
BEGIN:VEVENT
DTSTART:20090721T233000Z
DTEND:20090722T010000Z
X-MICROSOFT-CDO-ALLDAYEVENT:FALSE
SUMMARY:Let's Face It! Renewing and Enhancing your Facial Beauty
DESCRIPTION:Mirror\, mirror on the wall who's the fairest of them all?  Facial cosmetic surgery has come a long way and technological advances have increased consumers options.  Please join Gunnar Thors\, M.D. board certified plastic surgeon with Midwest Plastic Surgery Specialists\, for a discussion on the latest rejuvenation techniques and surgical procedures available.
X-ALT-DESC;FMTTYPE=text/html:Mirror\, mirror on the wall who's the fairest of them all?  Facial cosmetic surgery has come a long way and technological advances have increased consumers options.  Please join Gunnar Thors\, M.D. board certified plastic surgeon with Midwest Plastic Surgery Specialists\, for a discussion on the latest rejuvenation techniques and surgical procedures available.
LOCATION:Advocate Good Shepherd Hospital Prairie-Meadow Rooms 450 W. Highway 22 Barrington\, IL 60010
UID:e.138.489
SEQUENCE:3
DTSTAMP:20260424T192818Z
URL:https://business.carygrovechamber.com/events/details/let-s-face-it-renewing-and-enhancing-your-facial-beauty-07-21-2009-489
END:VEVENT

END:VCALENDAR
