BEGIN:VCALENDAR
VERSION:2.0
PRODID:-//ChamberMaster//Event Calendar 2.0//EN
METHOD:PUBLISH
X-PUBLISHED-TTL:P3D
REFRESH-INTERVAL:P3D
CALSCALE:GREGORIAN
BEGIN:VEVENT
DTSTART:20090912T140000Z
DTEND:20090912T220000Z
X-MICROSOFT-CDO-ALLDAYEVENT:FALSE
SUMMARY:Life Line Screening
DESCRIPTION:Advocate Good Shepherd Hospital is pleased to sponsor the Life Line Screening preventive health program.  We encourage you to attend this community event which brings wellness screening to your neighborhood.\n\nA stroke screning is coming to your neighborhood:
X-ALT-DESC;FMTTYPE=text/html:Advocate Good Shepherd Hospital is pleased to sponsor the Life Line Screening preventive health program.  We encourage you to attend this community event which brings wellness screening to your neighborhood.\n\nA stroke screning is coming to your neighborhood:
LOCATION:St. Petar and Paul Catholic Church 410 N. First Street Cary\, Illinois 60013
UID:e.138.548
SEQUENCE:3
DTSTAMP:20260424T153341Z
URL:https://business.carygrovechamber.com/events/details/life-line-screening-09-12-2009-548
END:VEVENT

END:VCALENDAR
