BEGIN:VCALENDAR
VERSION:2.0
PRODID:-//ChamberMaster//Event Calendar 2.0//EN
METHOD:PUBLISH
X-PUBLISHED-TTL:P3D
REFRESH-INTERVAL:P3D
CALSCALE:GREGORIAN
BEGIN:VEVENT
DTSTART;VALUE=DATE:20090923
DTEND;VALUE=DATE:20090924
TRANSP:TRANSPARENT
X-MICROSOFT-CDO-ALLDAYEVENT:TRUE
SUMMARY:Life Line Screenings
DESCRIPTION:Advocate Good Shepherd Hospital is pleased to sponsor the Life Line Screening preventive health program.  We encourage you to attend this community event which brings wellness screenings to your neighborhood.
X-ALT-DESC;FMTTYPE=text/html:Advocate Good Shepherd Hospital is pleased to sponsor the Life Line Screening preventive health program.  We encourage you to attend this community event which brings wellness screenings to your neighborhood.
LOCATION:St. John Lutheran Church 401 W. State Road Island Lake\, Illinois
UID:e.138.549
SEQUENCE:3
DTSTAMP:20260424T151207Z
URL:https://business.carygrovechamber.com/events/details/life-line-screenings-09-23-2009-549
END:VEVENT

END:VCALENDAR
