BEGIN:VCALENDAR
VERSION:2.0
PRODID:-//ChamberMaster//Event Calendar 2.0//EN
METHOD:PUBLISH
X-PUBLISHED-TTL:P3D
REFRESH-INTERVAL:P3D
CALSCALE:GREGORIAN
BEGIN:VEVENT
DTSTART;VALUE=DATE:20090929
DTEND;VALUE=DATE:20090930
TRANSP:TRANSPARENT
X-MICROSOFT-CDO-ALLDAYEVENT:TRUE
SUMMARY:Life Line Screenings
DESCRIPTION:Advocate Good Shepherd Hospital is pleased to sponsor the Life Line Screening preventive health program.  We encourage you to attend this community event which brings wellness screenings to your neighborhoold.
X-ALT-DESC;FMTTYPE=text/html:Advocate Good Shepherd Hospital is pleased to sponsor the Life Line Screening preventive health program.  We encourage you to attend this community event which brings wellness screenings to your neighborhoold.
LOCATION:Nippersink Public Library 5418 HIll Street Richmond\, IL
UID:e.138.551
SEQUENCE:3
DTSTAMP:20260424T163348Z
URL:https://business.carygrovechamber.com/events/details/life-line-screenings-09-29-2009-551
END:VEVENT

END:VCALENDAR
