BEGIN:VCALENDAR
VERSION:2.0
PRODID:-//ChamberMaster//Event Calendar 2.0//EN
METHOD:PUBLISH
X-PUBLISHED-TTL:P3D
REFRESH-INTERVAL:P3D
CALSCALE:GREGORIAN
BEGIN:VEVENT
DTSTART;VALUE=DATE:20091022
DTEND;VALUE=DATE:20091023
TRANSP:TRANSPARENT
X-MICROSOFT-CDO-ALLDAYEVENT:TRUE
SUMMARY:Life Line Screenings
DESCRIPTION:Advocate Good Shepherd Hospital is pleased to sponsor the Life Line Screening preventive health program.  We encourage you to attend this community event which brings wellness screenings to your neighborhood.
X-ALT-DESC;FMTTYPE=text/html:Advocate Good Shepherd Hospital is pleased to sponsor the Life Line Screening preventive health program.  We encourage you to attend this community event which brings wellness screenings to your neighborhood.
LOCATION:Grace Fellowship Church 200 Cairns Court Woodstock\, IL
UID:e.138.554
SEQUENCE:3
DTSTAMP:20260424T140104Z
URL:https://business.carygrovechamber.com/events/details/life-line-screenings-10-22-2009-554
END:VEVENT

END:VCALENDAR
