BEGIN:VCALENDAR
VERSION:2.0
PRODID:-//ChamberMaster//Event Calendar 2.0//EN
METHOD:PUBLISH
X-PUBLISHED-TTL:P3D
REFRESH-INTERVAL:P3D
CALSCALE:GREGORIAN
BEGIN:VEVENT
DTSTART:20091113T150000Z
DTEND:20091113T230000Z
X-MICROSOFT-CDO-ALLDAYEVENT:FALSE
SUMMARY:`Life Line Screenings Hosted by Advocate Good Shepherd Hospital
DESCRIPTION:A stroke screening is coming to your neighborhood!\n\n80% of stroke victims had no apparent warning signs.\nUltrasound screenings can help you avoid a stroke\nStroke is a leading cause of death and permanent disability.\nScreenings are fast\, painless affordable and convenient.
X-ALT-DESC;FMTTYPE=text/html:A stroke screening is coming to your neighborhood!\n\n80% of stroke victims had no apparent warning signs.\nUltrasound screenings can help you avoid a stroke\nStroke is a leading cause of death and permanent disability.\nScreenings are fast\, painless affordable and convenient.
LOCATION:Advocate Good Shepherd Outpatient Center-Crystal Lake 525 Congress Parkway Crystal Lake\, IL 60014
UID:e.138.611
SEQUENCE:3
DTSTAMP:20260424T140608Z
URL:https://business.carygrovechamber.com/events/details/life-line-screenings-hosted-by-advocate-good-shepherd-hospital-11-13-2009-611
END:VEVENT

END:VCALENDAR
