BEGIN:VCALENDAR
VERSION:2.0
PRODID:-//ChamberMaster//Event Calendar 2.0//EN
METHOD:PUBLISH
X-PUBLISHED-TTL:P3D
REFRESH-INTERVAL:P3D
CALSCALE:GREGORIAN
BEGIN:VEVENT
DTSTART:20091219T150000Z
DTEND:20091219T230000Z
X-MICROSOFT-CDO-ALLDAYEVENT:FALSE
SUMMARY:Life Line Screenings Hosted by Advocate Good Shepherd Hospital
DESCRIPTION:Advocate Good Shepherd Hospital is pleased to sponsor the Life Line Screening preventive health program.  We encourage you to attend this community event which brings wellness screenings to your neighborhood.
X-ALT-DESC;FMTTYPE=text/html:Advocate Good Shepherd Hospital is pleased to sponsor the Life Line Screening preventive health program.  We encourage you to attend this community event which brings wellness screenings to your neighborhood.
LOCATION:St. John's Evangelical Lutheran Church Algonquin\, IL
UID:e.138.604
SEQUENCE:3
DTSTAMP:20260424T125948Z
URL:https://business.carygrovechamber.com/events/details/life-line-screenings-hosted-by-advocate-good-shepherd-hospital-12-19-2009-604
END:VEVENT

END:VCALENDAR
