BEGIN:VCALENDAR
VERSION:2.0
PRODID:-//ChamberMaster//Event Calendar 2.0//EN
METHOD:PUBLISH
X-PUBLISHED-TTL:P3D
REFRESH-INTERVAL:P3D
CALSCALE:GREGORIAN
BEGIN:VEVENT
DTSTART:20070426T220000Z
DTEND:20070427T000000Z
X-MICROSOFT-CDO-ALLDAYEVENT:FALSE
SUMMARY:Lighthouse Business Networking Mixer - Meet the Queen Candidates
DESCRIPTION:Lighthouse Business Networking Mixer at \nColdwell Banker Primus Realty\n\nMeet the Queen Candidates for Miss Cary and Miss Fox River Grove
X-ALT-DESC;FMTTYPE=text/html:<font size="4">Lighthouse Business Networking Mixer at <br />Coldwell Banker Primus Realty<br /><br />Meet the Queen Candidates for Miss Cary and Miss Fox River Grove</font>
LOCATION:10 West Main\, (corner of Route 14 and First Street)\, Cary
UID:e.138.60
SEQUENCE:3
DTSTAMP:20260425T215658Z
URL:https://business.carygrovechamber.com/events/details/lighthouse-business-networking-mixer-meet-the-queen-candidates-04-26-2007-60
END:VEVENT

END:VCALENDAR
