BEGIN:VCALENDAR
VERSION:2.0
PRODID:-//ChamberMaster//Event Calendar 2.0//EN
METHOD:PUBLISH
X-PUBLISHED-TTL:P3D
REFRESH-INTERVAL:P3D
CALSCALE:GREGORIAN
BEGIN:VEVENT
DTSTART;VALUE=DATE:20090530
DTEND;VALUE=DATE:20090531
TRANSP:TRANSPARENT
X-MICROSOFT-CDO-ALLDAYEVENT:TRUE
SUMMARY:LIve Band - Alex & the All Stars at Wool Street
DESCRIPTION:Live Band!  Come out to Wool Street on Saturday\, May 30 and listen to Alex & the All Stars perform!
X-ALT-DESC;FMTTYPE=text/html:Live Band!  Come out to Wool Street on Saturday\, May 30 and listen to Alex & the All Stars perform!
LOCATION:Wool Street800 Feinberg Ct.Cary\, IL 60013
UID:e.138.474
SEQUENCE:3
DTSTAMP:20260424T215632Z
URL:https://business.carygrovechamber.com/events/details/live-band-alex-the-all-stars-at-wool-street-05-30-2009-474
END:VEVENT

END:VCALENDAR
