BEGIN:VCALENDAR
VERSION:2.0
PRODID:-//ChamberMaster//Event Calendar 2.0//EN
METHOD:PUBLISH
X-PUBLISHED-TTL:P3D
REFRESH-INTERVAL:P3D
CALSCALE:GREGORIAN
BEGIN:VEVENT
DTSTART;VALUE=DATE:20090515
DTEND;VALUE=DATE:20090516
TRANSP:TRANSPARENT
X-MICROSOFT-CDO-ALLDAYEVENT:TRUE
SUMMARY:Live Entertainment at Wool Street Grill & Sports Bar
DESCRIPTION:Join us on Friday\, May 15 for live entertainment.  Music by Mr. Meyer.
X-ALT-DESC;FMTTYPE=text/html:Join us on Friday\, May 15 for live entertainment.  Music by Mr. Meyer.
LOCATION:800 Feinberg Court Cary\, IL 60013
UID:e.138.469
SEQUENCE:3
DTSTAMP:20260424T215048Z
URL:https://business.carygrovechamber.com/events/details/live-entertainment-at-wool-street-grill-sports-bar-05-15-2009-469
END:VEVENT

END:VCALENDAR
