BEGIN:VCALENDAR
VERSION:2.0
PRODID:-//ChamberMaster//Event Calendar 2.0//EN
METHOD:PUBLISH
X-PUBLISHED-TTL:P3D
REFRESH-INTERVAL:P3D
CALSCALE:GREGORIAN
BEGIN:VEVENT
DTSTART;VALUE=DATE:20090522
DTEND;VALUE=DATE:20090523
TRANSP:TRANSPARENT
X-MICROSOFT-CDO-ALLDAYEVENT:TRUE
SUMMARY:Live Music at Wool Street
DESCRIPTION:Come to Wool Street on Friday\, May 22 and listen to live music by Michael Rodio.
X-ALT-DESC;FMTTYPE=text/html:Come to Wool Street on Friday\, May 22 and listen to live music by Michael Rodio.
LOCATION:800 Feinberg Court Cary\, IL 60013
UID:e.138.471
SEQUENCE:3
DTSTAMP:20260424T214752Z
URL:https://business.carygrovechamber.com/events/details/live-music-at-wool-street-05-22-2009-471
END:VEVENT

END:VCALENDAR
