BEGIN:VCALENDAR
VERSION:2.0
PRODID:-//ChamberMaster//Event Calendar 2.0//EN
METHOD:PUBLISH
X-PUBLISHED-TTL:P3D
REFRESH-INTERVAL:P3D
CALSCALE:GREGORIAN
BEGIN:VEVENT
DTSTART;VALUE=DATE:20090523
DTEND;VALUE=DATE:20090524
TRANSP:TRANSPARENT
X-MICROSOFT-CDO-ALLDAYEVENT:TRUE
SUMMARY:Live Music - Aunt Janet Band at Wool Street
DESCRIPTION:Live Band at Wool Street on Saturday\, May 23.  Come out and listen to Aunt Janet Band!
X-ALT-DESC;FMTTYPE=text/html:Live Band at Wool Street on Saturday\, May 23.  Come out and listen to Aunt Janet Band!
LOCATION:800 Feinberg Court Cary\, IL 60013
UID:e.138.472
SEQUENCE:3
DTSTAMP:20260424T220227Z
URL:https://business.carygrovechamber.com/events/details/live-music-aunt-janet-band-at-wool-street-05-23-2009-472
END:VEVENT

END:VCALENDAR
