BEGIN:VCALENDAR
VERSION:2.0
PRODID:-//ChamberMaster//Event Calendar 2.0//EN
METHOD:PUBLISH
X-PUBLISHED-TTL:P3D
REFRESH-INTERVAL:P3D
CALSCALE:GREGORIAN
BEGIN:VEVENT
DTSTART;VALUE=DATE:20090529
DTEND;VALUE=DATE:20090530
TRANSP:TRANSPARENT
X-MICROSOFT-CDO-ALLDAYEVENT:TRUE
SUMMARY:Live Music - Kevin Mileski at Wool Street
DESCRIPTION:LIve Music at Wool Street.  Come out on Friday\, May 29 and listen to Kevin Mileski.
X-ALT-DESC;FMTTYPE=text/html:LIve Music at Wool Street.  Come out on Friday\, May 29 and listen to Kevin Mileski.
LOCATION:Wool Street Grill & Sports Bar 800 Feinberg Ct. Cary\, IL
UID:e.138.473
SEQUENCE:3
DTSTAMP:20260424T215000Z
URL:https://business.carygrovechamber.com/events/details/live-music-kevin-mileski-at-wool-street-05-29-2009-473
END:VEVENT

END:VCALENDAR
