BEGIN:VCALENDAR
VERSION:2.0
PRODID:-//ChamberMaster//Event Calendar 2.0//EN
METHOD:PUBLISH
X-PUBLISHED-TTL:P3D
REFRESH-INTERVAL:P3D
CALSCALE:GREGORIAN
BEGIN:VEVENT
DTSTART:20100123T020000Z
DTEND:20100123T050000Z
X-MICROSOFT-CDO-ALLDAYEVENT:FALSE
SUMMARY:Lucy's Cafe - A Night of Music with Dave Sarkis
DESCRIPTION:A new spin on an old favorite\, Lucy's Cafe\, a Night of Music\, offers up an eclectic selection of musical acts in the same intimate setting as the original Lucy's Cafe\, Comedy Series. Reminiscent of an old speak-easy\, this show will delight music lovers. This month we are featuring a Crystal Lake favorite\, Dave Sarkis. He comes to the Raue for a night of acoustic rock and roll\, folk\, blues and country. Sarkis is currently with Jersey Boys at the Bank of America Theatre in Chicago. Set on stage (you won't find a bad seat!) with private or community tables and cash bar (credit cards now accepted!)\, as the lights go down the performers begin their show. When reserving your tickets\, pre-order bottles of house red or white wine\, buckets of beer or soda and cheese trays. Pre-ordering drinks reserves you the best table available at the time of your order. Tickets are ONLY $20 in advance and $25 day of. Corporate Co-Sponsor: Piano Trends
X-ALT-DESC;FMTTYPE=text/html:<div>A new spin on an old favorite\, Lucy's Cafe\, a Night of Music\, offers up an eclectic selection of musical acts in the same intimate setting as the original Lucy's Cafe\, Comedy Series. Reminiscent of an old speak-easy\, this show will delight music lovers. This month we are featuring a Crystal Lake favorite\, Dave Sarkis. He comes to the Raue for a night of acoustic rock and roll\, folk\, blues and country. Sarkis is currently with Jersey Boys at the Bank of America Theatre in Chicago. Set on stage (you won't find a bad seat!) with private or community tables and cash bar (credit cards now accepted!)\, as the lights go down the performers begin their show. When reserving your tickets\, pre-order bottles of house red or white wine\, buckets of beer or soda and cheese trays. Pre-ordering drinks reserves you the best table available at the time of your order. Tickets are ONLY $20 in advance and $25 day of. Corporate Co-Sponsor: Piano Trends</div>
LOCATION:Raue Center For The Arts 26 North Williams Street Crystal Lake\, IL 60014
UID:e.138.670
SEQUENCE:3
DTSTAMP:20260424T113722Z
URL:https://business.carygrovechamber.com/events/details/lucy-s-cafe-a-night-of-music-with-dave-sarkis-01-22-2010-670
END:VEVENT

END:VCALENDAR
