BEGIN:VCALENDAR
VERSION:2.0
PRODID:-//ChamberMaster//Event Calendar 2.0//EN
METHOD:PUBLISH
X-PUBLISHED-TTL:P3D
REFRESH-INTERVAL:P3D
CALSCALE:GREGORIAN
BEGIN:VEVENT
DTSTART:20091218T003000Z
DTEND:20091218T033000Z
X-MICROSOFT-CDO-ALLDAYEVENT:FALSE
SUMMARY:Lulu's Secrets Holiday Shopping Frenzy Sale!!
DESCRIPTION:This is your holiday shopping event you dont want to miss! There will be door prizes\, raffle prizes\, $1.00 accessories. Door buster specials and give aways. This is a chance to come and wrap up all your holiday shopping! There will be something for everyone on your list! Handbags\, Wallets\, Jewelry\, Clothing\, Boots\, Shoes\, and More!
X-ALT-DESC;FMTTYPE=text/html:<div>This is your holiday shopping event you dont want to miss! There will be door prizes\, raffle prizes\, $1.00 accessories. Door buster specials and give aways. This is a chance to come and wrap up all your holiday shopping! There will be something for everyone on your list! Handbags\, Wallets\, Jewelry\, Clothing\, Boots\, Shoes\, and More!</div>
LOCATION:Hotel Indigo\, Northwest Highway\, Palatine\, IL.
UID:e.138.661
SEQUENCE:3
DTSTAMP:20260424T130332Z
URL:https://business.carygrovechamber.com/events/details/lulu-s-secrets-holiday-shopping-frenzy-sale-12-17-2009-661
END:VEVENT

END:VCALENDAR
