BEGIN:VCALENDAR
VERSION:2.0
PRODID:-//ChamberMaster//Event Calendar 2.0//EN
METHOD:PUBLISH
X-PUBLISHED-TTL:P3D
REFRESH-INTERVAL:P3D
CALSCALE:GREGORIAN
BEGIN:VEVENT
DTSTART:20091112T230000Z
DTEND:20091113T030000Z
X-MICROSOFT-CDO-ALLDAYEVENT:FALSE
SUMMARY:Lulu's Secrets is displaying at CHANDLERS!
DESCRIPTION:SHOPPING!!! Come on out to "Girls Night Out" Chandlers on Roselle Road\, Schaumburg\, IL. For a night of shopping with over 40 vendors!! I will be there to display all my hottest styles and brands of designer replica merchandise! Mention the "cary chamber" and get 10 % off! Free appetizers\, cash bar..... live entertainmet!
X-ALT-DESC;FMTTYPE=text/html:SHOPPING!!! Come on out to "Girls Night Out" Chandlers on Roselle Road\, Schaumburg\, IL. For a night of shopping with over 40 vendors!! I will be there to display all my hottest styles and brands of designer replica merchandise! Mention the "cary chamber" and get 10 % off! Free appetizers\, cash bar..... live entertainmet!
LOCATION:Roselle Road in Schaumburg
UID:e.138.620
SEQUENCE:3
DTSTAMP:20260424T140317Z
URL:https://business.carygrovechamber.com/events/details/lulu-s-secrets-is-displaying-at-chandlers-11-12-2009-620
END:VEVENT

END:VCALENDAR
