BEGIN:VCALENDAR
VERSION:2.0
PRODID:-//ChamberMaster//Event Calendar 2.0//EN
METHOD:PUBLISH
X-PUBLISHED-TTL:P3D
REFRESH-INTERVAL:P3D
CALSCALE:GREGORIAN
BEGIN:VEVENT
DTSTART:20090519T233000Z
DTEND:20090520T010000Z
X-MICROSOFT-CDO-ALLDAYEVENT:FALSE
SUMMARY:Maintaining a Personal Health Plan
DESCRIPTION:Family doctors are specially trained in preventative medicine.  Please join Family Practice Physician Robert Malecki\, M.D. with Advocate Good Shepherd Outpatient Center for a candid discussion on taking charge of your own healthcare\, including recommended screenings and vaccinations.  Learn how to take care of your physical\, mental and emotional health in this informative lecture.
X-ALT-DESC;FMTTYPE=text/html:Family doctors are specially trained in preventative medicine.  Please join Family Practice Physician Robert Malecki\, M.D. with Advocate Good Shepherd Outpatient Center for a candid discussion on taking charge of your own healthcare\, including recommended screenings and vaccinations.  Learn how to take care of your physical\, mental and emotional health in this informative lecture.
LOCATION:Advocate Good Shepherd Hospital Prairie Room 450 W. Highway 22 Barrington\, IL 60010
UID:e.138.402
SEQUENCE:3
DTSTAMP:20260424T203226Z
URL:https://business.carygrovechamber.com/events/details/maintaining-a-personal-health-plan-05-19-2009-402
END:VEVENT

END:VCALENDAR
