BEGIN:VCALENDAR
VERSION:2.0
PRODID:-//ChamberMaster//Event Calendar 2.0//EN
METHOD:PUBLISH
X-PUBLISHED-TTL:P3D
REFRESH-INTERVAL:P3D
CALSCALE:GREGORIAN
BEGIN:VEVENT
DTSTART:20120918T233000Z
DTEND:20120919T010000Z
X-MICROSOFT-CDO-ALLDAYEVENT:FALSE
SUMMARY:Managing Congestive Heart Failure
DESCRIPTION:Managing Congestive Heart Failure\n\nTuesday\, September 18\, 2012\n\n6:30-8 pm\n\nClass Code: 3C89\n\n\n\nHeart Failure is a condition in which the heart works less efficiently because it cannot pump enough blood to the body's other organs. And\, it is possible to have the condition and not realize it. Join Rani Sharma\, MD.\, board certified cardiologist for this informative lecture.  To register phone 1-800-323-8622.  For additional questions phone Trish Golden at 847-842-2988
X-ALT-DESC;FMTTYPE=text/html:Managing Congestive Heart Failure<br />\nTuesday\, September 18\, 2012<br />\n6:30-8 pm<br />\nClass Code: 3C89<br />\n<br />\nHeart Failure is a condition in which the heart works less efficiently because it cannot pump enough blood to the body&rsquo\;s other organs. And\, it is possible to have the condition and not realize it. Join Rani Sharma\, MD.\, board certified cardiologist for this informative lecture.&nbsp\; To register phone 1-800-323-8622.&nbsp\; For additional questions phone Trish Golden at 847-842-2988<br />\n<br />\n
LOCATION:Advocate Good Shepherd Hospital 450 W. Highway 22 Barrington\, IL 60010
UID:e.138.3411
SEQUENCE:3
DTSTAMP:20260419T231933Z
URL:https://business.carygrovechamber.com/events/details/managing-congestive-heart-failure-09-18-2012-3411
END:VEVENT

END:VCALENDAR
