BEGIN:VCALENDAR
VERSION:2.0
PRODID:-//ChamberMaster//Event Calendar 2.0//EN
METHOD:PUBLISH
X-PUBLISHED-TTL:P3D
REFRESH-INTERVAL:P3D
CALSCALE:GREGORIAN
BEGIN:VEVENT
DTSTART;VALUE=DATE:20090806
DTEND;VALUE=DATE:20090807
TRANSP:TRANSPARENT
X-MICROSOFT-CDO-ALLDAYEVENT:TRUE
SUMMARY:Marine Golf Fundraiser at Chalet Hills
DESCRIPTION:The fourth annual Heart of a Marine Golf Fundraiser will be held at Chalet Hills Golf Club\, 943 Rawson Bridge Road in Cary on Thursday\, August 6 with shotgun start at 12 noon.  Cost is $125 per person and includes 18 holes of golf\, cart and locker room privileges\, driving range\, dinner buffet and patriotic music.   Dinner only is $45.  Prize donors and sponsors needed\, too.  For more information\, call Tom Riordan at (815) 459-6800 or visit www.heartofamarine.org/about/the-heart-of-a-marine-foundation-mission.aspx
X-ALT-DESC;FMTTYPE=text/html:The fourth annual Heart of a Marine Golf Fundraiser will be held at Chalet Hills Golf Club\, 943 Rawson Bridge Road in Cary on Thursday\, August 6 with shotgun start at 12 noon.  Cost is $125 per person and includes 18 holes of golf\, cart and locker room privileges\, driving range\, dinner buffet and patriotic music.   Dinner only is $45.  Prize donors and sponsors needed\, too.  For more information\, call Tom Riordan at (815) 459-6800 or visit www.heartofamarine.org/about/the-heart-of-a-marine-foundation-mission.aspx
LOCATION:Chalet Hills Golf Club943 Rawson Bridge Road in Cary
UID:e.138.533
SEQUENCE:3
DTSTAMP:20260424T180330Z
URL:https://business.carygrovechamber.com/events/details/marine-golf-fundraiser-at-chalet-hills-08-06-2009-533
END:VEVENT

END:VCALENDAR
