BEGIN:VCALENDAR
VERSION:2.0
PRODID:-//ChamberMaster//Event Calendar 2.0//EN
METHOD:PUBLISH
X-PUBLISHED-TTL:P3D
REFRESH-INTERVAL:P3D
CALSCALE:GREGORIAN
BEGIN:VEVENT
DTSTART:20110621T220000Z
DTEND:20110622T000000Z
X-MICROSOFT-CDO-ALLDAYEVENT:FALSE
SUMMARY:Marquardt of Barrington Multi - Chamber Mixer
DESCRIPTION:Marquardt of Barrington is hosting a Multi-Chamber Mixer!\n\nTuesday\, June 21 at 1421 S. Barrington Rd. Barrington from 5-7 p.m.\n\n\n	There will be an ALL NEW BUICK VERANO on display.  This will be the first one displayed at any dealership in North America and will be available in a high mileage E-Assist version so we are excited about that!\n\n	 \n\n	  TeTTTTttlkjdglakdjfglk
X-ALT-DESC;FMTTYPE=text/html:<p>\n	<font face="Arial" size="3">&nbsp\;</font></p>\n<font face="Arial" size="3"><span style="color: #0000cd">Marquardt of Barrington is hosting a Multi-Chamber Mixer!<br />\n</span>Tuesday\, June 21 at 1421 S. Barrington Rd. Barrington from 5-7 p.m.</font><br />\n<p>\n	<font face="Arial" size="3"><font size="3"><font color="#000000"><span style="font-family: 'arial'\, 'sans-serif'">There will be an</span><b> </b></font><b><span style="font-family: 'arial'\, 'sans-serif'\; color: blue">ALL NEW BUICK VERANO</span></b><span style="font-family: 'arial'\, 'sans-serif'"><font color="#000000"> on display.&nbsp\; This will be the first one displayed at any dealership in North America and will be available in a high mileage E-Assist version so we are excited about that!</font></span></font></font><br />\n	&nbsp\;</p>\n<p>\n	<font face="Arial" size="3">&nbsp\;<span _fck_bookmark="1" style="display: none">&nbsp\;TeTTTTttlkjdglakdjfglk</span></font></p>\n
LOCATION:
UID:e.138.2546
SEQUENCE:3
DTSTAMP:20260423T121047Z
URL:https://business.carygrovechamber.com/events/details/marquardt-of-barrington-multi-chamber-mixer-06-21-2011-2546
END:VEVENT

END:VCALENDAR
