BEGIN:VCALENDAR
VERSION:2.0
PRODID:-//ChamberMaster//Event Calendar 2.0//EN
METHOD:PUBLISH
X-PUBLISHED-TTL:P3D
REFRESH-INTERVAL:P3D
CALSCALE:GREGORIAN
BEGIN:VEVENT
DTSTART;VALUE=DATE:20100216
DTEND;VALUE=DATE:20100217
TRANSP:TRANSPARENT
X-MICROSOFT-CDO-ALLDAYEVENT:TRUE
SUMMARY:Martinis and Fondue at Lake Barrington Woods
DESCRIPTION:Lake Barrington Woods Retirement Community invites you to "Fond of You Fondue" event featuring chocolate martinis and fondue while networking with friends on Tuesday\, February 16 from 4 to 7 p.m. at their facility\, located at 22320 Classic Court\, Lake Barrington\, off Northwest Hwy\, between Kelsey Rd & Rte. 22.  Please RSVP to Pam or Kathy at (847) 842-8900.
X-ALT-DESC;FMTTYPE=text/html:<div><p class="MsoNormal" style="line-height: 14.4pt\; margin: 0in 0in 0pt"><st1:place><st1:placetype><b style="mso-bidi-font-weight: normal"><span style="font-family: Arial\; color: black\; font-size: 11pt\; mso-bidi-font-size: 12.0pt\; mso-bidi-font-family: 'Times New Roman'\; mso-font-kerning: 1.0pt">Lake</span></b></st1:placetype><b style="mso-bidi-font-weight: normal"><span style="font-family: Arial\; color: black\; font-size: 11pt\; mso-bidi-font-size: 12.0pt\; mso-bidi-font-family: 'Times New Roman'\; mso-font-kerning: 1.0pt"> </span></b><st1:placename><b style="mso-bidi-font-weight: normal"><span style="font-family: Arial\; color: black\; font-size: 11pt\; mso-bidi-font-size: 12.0pt\; mso-bidi-font-family: 'Times New Roman'\; mso-font-kerning: 1.0pt">Barrington</span></b></st1:placename></st1:place><b style="mso-bidi-font-weight: normal"><span style="font-family: Arial\; color: black\; font-size: 11pt\; mso-bidi-font-size: 12.0pt\; mso-bidi-font-family: 'Times New Roman'\; mso-font-kerning: 1.0pt"> Woods</span></b><span style="font-family: Arial\; color: black\; font-size: 11pt\; mso-bidi-font-size: 12.0pt\; mso-bidi-font-family: 'Times New Roman'\; mso-font-kerning: 1.0pt"> Retirement Community invites you to &ldquo\;Fond of You Fondue&rdquo\; event featuring chocolate martinis and fondue while networking with friends on Tuesday\, February 16 from </span><st1:time hour="16" minute="0"><span style="font-family: Arial\; color: black\; font-size: 11pt\; mso-bidi-font-size: 12.0pt\; mso-bidi-font-family: 'Times New Roman'\; mso-font-kerning: 1.0pt">4</span></st1:time><span style="font-family: Arial\; color: black\; font-size: 11pt\; mso-bidi-font-size: 12.0pt\; mso-bidi-font-family: 'Times New Roman'\; mso-font-kerning: 1.0pt"> to </span><st1:time hour="19" minute="0"><span style="font-family: Arial\; color: black\; font-size: 11pt\; mso-bidi-font-size: 12.0pt\; mso-bidi-font-family: 'Times New Roman'\; mso-font-kerning: 1.0pt">7 p.m.</span></st1:time><span style="font-family: Arial\; color: black\; font-size: 11pt\; mso-bidi-font-size: 12.0pt\; mso-bidi-font-family: 'Times New Roman'\; mso-font-kerning: 1.0pt"> at their facility\, located at </span><st1:street><st1:address><span style="font-family: Arial\; color: black\; font-size: 11pt\; mso-bidi-font-size: 12.0pt\; mso-bidi-font-family: 'Times New Roman'\; mso-font-kerning: 1.0pt">22320 Classic Court</span></st1:address></st1:street><span style="font-family: Arial\; color: black\; font-size: 11pt\; mso-bidi-font-size: 12.0pt\; mso-bidi-font-family: 'Times New Roman'\; mso-font-kerning: 1.0pt">\, </span><st1:place><st1:placetype><span style="font-family: Arial\; color: black\; font-size: 11pt\; mso-bidi-font-size: 12.0pt\; mso-bidi-font-family: 'Times New Roman'\; mso-font-kerning: 1.0pt">Lake</span></st1:placetype><span style="font-family: Arial\; color: black\; font-size: 11pt\; mso-bidi-font-size: 12.0pt\; mso-bidi-font-family: 'Times New Roman'\; mso-font-kerning: 1.0pt"> </span><st1:placename><span style="font-family: Arial\; color: black\; font-size: 11pt\; mso-bidi-font-size: 12.0pt\; mso-bidi-font-family: 'Times New Roman'\; mso-font-kerning: 1.0pt">Barrington</span></st1:placename></st1:place><span style="font-family: Arial\; color: black\; font-size: 11pt\; mso-bidi-font-size: 12.0pt\; mso-bidi-font-family: 'Times New Roman'\; mso-font-kerning: 1.0pt">\, off </span><st1:street><st1:address><span style="font-family: Arial\; color: black\; font-size: 11pt\; mso-bidi-font-size: 12.0pt\; mso-bidi-font-family: 'Times New Roman'\; mso-font-kerning: 1.0pt">Northwest Hwy</span></st1:address></st1:street><span style="font-family: Arial\; color: black\; font-size: 11pt\; mso-bidi-font-size: 12.0pt\; mso-bidi-font-family: 'Times New Roman'\; mso-font-kerning: 1.0pt">\, between Kelsey Rd &amp\; Rte. 22.<span style="mso-spacerun: yes">&nbsp\; </span>Please RSVP to Pam or Kathy at (847) 842-8900.<span style="mso-spacerun: yes">&nbsp\; </span><o:p></o:p></span></p></div>
LOCATION:Lake Barrington Woods Retirement Community 22320 Classic Court\, Lake Barrington\, ILoff Northwest Hwy\, between Kelsey Rd & Rte. 22.
UID:e.138.735
SEQUENCE:3
DTSTAMP:20260424T101923Z
URL:https://business.carygrovechamber.com/events/details/martinis-and-fondue-at-lake-barrington-woods-02-16-2010-735
END:VEVENT

END:VCALENDAR
