BEGIN:VCALENDAR
VERSION:2.0
PRODID:-//ChamberMaster//Event Calendar 2.0//EN
METHOD:PUBLISH
X-PUBLISHED-TTL:P3D
REFRESH-INTERVAL:P3D
CALSCALE:GREGORIAN
BEGIN:VEVENT
DTSTART:20100306T210000Z
DTEND:20100306T230000Z
X-MICROSOFT-CDO-ALLDAYEVENT:FALSE
SUMMARY:Max & Rudy on Stage at Raue Center For The Arts
DESCRIPTION:Big sisters have big responsibilities\, especially when the little brother is a big trouble-maker! Join in the fun as Theatreworks USA presents a charming new musical full of fun and sibling rivalry. Based on the hit Nickelodeon TV show.
X-ALT-DESC;FMTTYPE=text/html:Big sisters have big responsibilities\, especially when the little brother is a big trouble-maker! Join in the fun as Theatreworks USA presents a charming new musical full of fun and sibling rivalry. Based on the hit Nickelodeon TV show.
LOCATION:Raue Center For The Arts 26 North Williams Street Crystal Lake\, Illinois
UID:e.138.758
SEQUENCE:3
DTSTAMP:20260424T111519Z
URL:https://business.carygrovechamber.com/events/details/max-rudy-on-stage-at-raue-center-for-the-arts-03-06-2010-758
END:VEVENT

END:VCALENDAR
