BEGIN:VCALENDAR
VERSION:2.0
PRODID:-//ChamberMaster//Event Calendar 2.0//EN
METHOD:PUBLISH
X-PUBLISHED-TTL:P3D
REFRESH-INTERVAL:P3D
CALSCALE:GREGORIAN
BEGIN:VEVENT
DTSTART:20090429T000000Z
DTEND:20090429T030000Z
X-MICROSOFT-CDO-ALLDAYEVENT:FALSE
SUMMARY:McHenry County Karaoke Idol
DESCRIPTION:Chalet Hills Golf Club in conjunction with Star 105.5 is hosting the McHenry County Karaoke Idol Qualifying Round on Tuesday\, April 28 at 7 p.m. at Chalet Hills Clubhouse. Come out and enjoy the show! There will be great food and drink specials.   If interested in participating\, sign up at www.star105.com. The contest is open to the first 20 participants.
X-ALT-DESC;FMTTYPE=text/html:<div style="margin: 0in 0in 0pt\; line-height: 14.4pt"><strong><span style="font-size: 11pt\; color: black">Chalet Hills Golf Club</span></strong><span style="font-size: 11pt\; color: black">&nbsp\;in conjunction with Star 105.5 is hosting the McHenry County Karaoke Idol Qualifying Round on Tuesday\, April 28 at 7 p.m. at Chalet Hills Clubhouse. Come out and enjoy the show!&nbsp\;There will be great food and drink specials.&nbsp\;&nbsp\; If interested in participating\, sign up at <a href="http://www.star105.com/"><span style="color: black">www.star105.com</span></a>.&nbsp\;The contest is open to the first 20 participants.&nbsp\;</span></div>
LOCATION:Chalet Hills Golf Club is located at 943 Rawson Bridge Road in Cary. For more information\, visit www.chaletgolf.com.
UID:e.138.448
SEQUENCE:3
DTSTAMP:20260424T231022Z
URL:https://business.carygrovechamber.com/events/details/mchenry-county-karaoke-idol-04-28-2009-448
END:VEVENT

END:VCALENDAR
