BEGIN:VCALENDAR
VERSION:2.0
PRODID:-//ChamberMaster//Event Calendar 2.0//EN
METHOD:PUBLISH
X-PUBLISHED-TTL:P3D
REFRESH-INTERVAL:P3D
CALSCALE:GREGORIAN
BEGIN:VEVENT
DTSTART:20070828T220000Z
DTEND:20070829T000000Z
X-MICROSOFT-CDO-ALLDAYEVENT:FALSE
SUMMARY:McHenry County Workforce Center Open House/Mixer
DESCRIPTION:McHenry County Workforce Center Open Hous/Multi-Chamber Mixer
X-ALT-DESC;FMTTYPE=text/html:<div>McHenry County Workforce Center Open Hous/Multi-Chamber Mixer</div>
LOCATION:500 Russel Court\, Woodstock
UID:e.138.107
SEQUENCE:3
DTSTAMP:20260426T014947Z
URL:https://business.carygrovechamber.com/events/details/mchenry-county-workforce-center-open-house-mixer-08-28-2007-107
END:VEVENT

END:VCALENDAR
