BEGIN:VCALENDAR
VERSION:2.0
PRODID:-//ChamberMaster//Event Calendar 2.0//EN
METHOD:PUBLISH
X-PUBLISHED-TTL:P3D
REFRESH-INTERVAL:P3D
CALSCALE:GREGORIAN
BEGIN:VEVENT
DTSTART;VALUE=DATE:20080710
DTEND;VALUE=DATE:20080711
TRANSP:TRANSPARENT
X-MICROSOFT-CDO-ALLDAYEVENT:TRUE
SUMMARY:Me Time Thursdays
DESCRIPTION:Aroma Chef Bath & Body and Amber Mountain Fashions is having a "Me Time Thursdays." This is an evening to relax your spirit and indulge your sense of style! Come and pamper yourself with Aroma Chef's all-natural handmade soaps\, luxurious body puddings\, body oils and more. Need to change up your summer wardrobe? Amber Mountain Fashions will have great deals on fun summer tops and Silver jeans. There will be raffles\, giveaways\, product sampling\, great deals on merchandise and\, of course\, summertime refreshments!
X-ALT-DESC;FMTTYPE=text/html:<div><span style="font-size: 10pt\; color: black">Aroma Chef Bath &amp\; Body and<strong> </strong>Amber Mountain Fashions is having a &ldquo\;<em>Me Time Thursdays.&rdquo\; </em>This is an evening to relax your spirit and indulge your sense of style! Come and pamper yourself with Aroma Chef&rsquo\;s all-natural handmade soaps\, luxurious body puddings\, body oils and more.&nbsp\;Need to change up your summer wardrobe?&nbsp\;Amber Mountain Fashions will have great deals on fun summer tops and Silver jeans.&nbsp\;There will be raffles\, giveaways\, product sampling\, great deals on merchandise and\, of course\, summertime refreshments!&nbsp\;</span></div>
LOCATION:Aroma Chef Bath & Body 312 Northwest Highway\, Fox River Grove (across from the FRG train station).
UID:e.138.271
SEQUENCE:3
DTSTAMP:20260425T121829Z
URL:https://business.carygrovechamber.com/events/details/me-time-thursdays-07-10-2008-271
END:VEVENT

END:VCALENDAR
