BEGIN:VCALENDAR
VERSION:2.0
PRODID:-//ChamberMaster//Event Calendar 2.0//EN
METHOD:PUBLISH
X-PUBLISHED-TTL:P3D
REFRESH-INTERVAL:P3D
CALSCALE:GREGORIAN
BEGIN:VEVENT
DTSTART:20110419T233000Z
DTEND:20110420T010000Z
X-MICROSOFT-CDO-ALLDAYEVENT:FALSE
SUMMARY:Medical Treatments for Lower Back Pian
DESCRIPTION:Tuesday\, April 19\, 2011\n\n6:30-8 pm\n\nOf all the different types of aches and pains people experience\, back pain is the most common.  A majority of us will experience back pain at some point in our lives according to the American Pain Foundation.  Greg Brebach\, MD\,. board certified Orthopedic Surgeon will discuss treatment options to reduce and help your symptoms.  A light meal will be served!
X-ALT-DESC;FMTTYPE=text/html:Tuesday\, April 19\, 2011\n<br>6:30-8 pm\n<br>Of all the different types of aches and pains people experience\, back pain is the most common.  A majority of us will experience back pain at some point in our lives according to the American Pain Foundation.  Greg Brebach\, MD\,. board certified Orthopedic Surgeon will discuss treatment options to reduce and help your symptoms.  A light meal will be served!
LOCATION:Advocate Good Shepherd Hospital 450 W. Highway 22\, Barrington\, IL
UID:e.138.2453
SEQUENCE:3
DTSTAMP:20260423T132638Z
URL:https://business.carygrovechamber.com/events/details/medical-treatments-for-lower-back-pian-04-19-2011-2453
END:VEVENT

END:VCALENDAR
