BEGIN:VCALENDAR
VERSION:2.0
PRODID:-//ChamberMaster//Event Calendar 2.0//EN
METHOD:PUBLISH
X-PUBLISHED-TTL:P3D
REFRESH-INTERVAL:P3D
CALSCALE:GREGORIAN
BEGIN:VEVENT
DTSTART:20070406T000000Z
DTEND:20070406T020000Z
X-MICROSOFT-CDO-ALLDAYEVENT:FALSE
SUMMARY:''Meet the Candidates Night''
DESCRIPTION:Meet the Candidates NightThursday\, April 57 p.m.The Clubhouse of Cary Country Club\n2400 Grove Lane\, Cary Cary Grove residents have choices to make at the April 17th election.   Join the Chamber as weLearn more about candidates for Cary and Fox River Grove Village Board\, the Cary Park DistrictAnd the issues! Residents are welcome and encouraged to attend! The event is free For information\, call the Chamber at (847) 639-2800
X-ALT-DESC;FMTTYPE=text/html:<p class="MsoNormal" style="MARGIN: 0in 0in 0pt"><strong style="mso-bidi-font-weight: normal"><span style="FONT-SIZE: 14pt"><font face="Times New Roman">Meet the Candidates Night<o:p></o:p></font></span></strong></p><p class="MsoNormal" style="MARGIN: 0in 0in 0pt"><strong style="mso-bidi-font-weight: normal"><font size="3"><font face="Times New Roman">Thursday\, April 5<o:p></o:p></font></font></strong></p><p class="MsoNormal" style="MARGIN: 0in 0in 0pt"><font size="3"><font face="Times New Roman"><st1:time minute="0" hour="19"><strong style="mso-bidi-font-weight: normal">7 p.m.</strong></st1:time><strong style="mso-bidi-font-weight: normal"><o:p></o:p></strong></font></font></p><p class="MsoNormal" style="MARGIN: 0in 0in 0pt"><st1:city><st1:place><strong style="mso-bidi-font-weight: normal"><font face="Times New Roman" size="3">The Clubhouse of Cary</font></strong></st1:place></st1:city><font size="3"><font face="Times New Roman"><strong style="mso-bidi-font-weight: normal"> Country Club<br /></strong><st1:address><st1:street><strong style="mso-bidi-font-weight: normal">2400 Grove Lane</strong></st1:street><strong style="mso-bidi-font-weight: normal">\, </strong><st1:city><strong style="mso-bidi-font-weight: normal">Cary</strong></st1:city></st1:address><strong style="mso-bidi-font-weight: normal"><o:p></o:p></strong></font></font></p><p class="MsoNormal" style="MARGIN: 0in 0in 0pt"><strong style="mso-bidi-font-weight: normal"><o:p><font face="Times New Roman" size="3">&nbsp\;</font></o:p></strong></p><p class="MsoNormal" style="MARGIN: 0in 0in 0pt"><strong style="mso-bidi-font-weight: normal"><font size="3"><font face="Times New Roman">Cary Grove residents have choices to make at the <o:p></o:p></font></font></strong></p><p class="MsoNormal" style="MARGIN: 0in 0in 0pt"><strong style="mso-bidi-font-weight: normal"><font size="3"><font face="Times New Roman">April 17<sup>th</sup> election.<span style="mso-spacerun: yes">&nbsp\;&nbsp\; </span>Join the Chamber as we<o:p></o:p></font></font></strong></p><p class="MsoNormal" style="MARGIN: 0in 0in 0pt"><font size="3"><font face="Times New Roman"><strong style="mso-bidi-font-weight: normal">Learn more about candidates for </strong><st1:city><st1:place><strong style="mso-bidi-font-weight: normal">Cary</strong></st1:place></st1:city><strong style="mso-bidi-font-weight: normal"> and <o:p></o:p></strong></font></font></p><p class="MsoNormal" style="MARGIN: 0in 0in 0pt"><font size="3"><font face="Times New Roman"><st1:place><st1:placename><strong style="mso-bidi-font-weight: normal">Fox River</strong></st1:placename><strong style="mso-bidi-font-weight: normal"> </strong><st1:placetype><strong style="mso-bidi-font-weight: normal">Grove</strong></st1:placetype><strong style="mso-bidi-font-weight: normal"> </strong><st1:placetype><strong style="mso-bidi-font-weight: normal">Village</strong></st1:placetype></st1:place><strong style="mso-bidi-font-weight: normal"> Board\, the Cary Park District<o:p></o:p></strong></font></font></p><p class="MsoNormal" style="MARGIN: 0in 0in 0pt"><strong style="mso-bidi-font-weight: normal"><font size="3"><font face="Times New Roman">And the issues!<o:p></o:p></font></font></strong></p><p class="MsoNormal" style="MARGIN: 0in 0in 0pt"><strong style="mso-bidi-font-weight: normal"><o:p><font face="Times New Roman" size="3">&nbsp\;</font></o:p></strong></p><p class="MsoNormal" style="MARGIN: 0in 0in 0pt"><strong style="mso-bidi-font-weight: normal"><font size="3"><font face="Times New Roman">Residents are welcome and encouraged to attend!<o:p></o:p></font></font></strong></p><p class="MsoNormal" style="MARGIN: 0in 0in 0pt"><strong style="mso-bidi-font-weight: normal"><o:p><font face="Times New Roman" size="3">&nbsp\;</font></o:p></strong></p><p class="MsoNormal" style="MARGIN: 0in 0in 0pt"><strong style="mso-bidi-font-weight: normal"><font size="3"><font face="Times New Roman">The event is free<o:p></o:p></font></font></strong></p><p class="MsoNormal" style="MARGIN: 0in 0in 0pt"><strong style="mso-bidi-font-weight: normal"><o:p><font face="Times New Roman" size="3">&nbsp\;</font></o:p></strong></p><p class="MsoNormal" style="MARGIN: 0in 0in 0pt"><strong style="mso-bidi-font-weight: normal"><font size="3"><font face="Times New Roman">For information\, call the Chamber at (847) 639-2800<o:p></o:p></font></font></strong></p>
LOCATION:The Clubhouse of Cary Country Club 2400 Grove Lane\, Cary
UID:e.138.51
SEQUENCE:3
DTSTAMP:20260425T202811Z
URL:https://business.carygrovechamber.com/events/details/meet-the-candidates-night-04-05-2007-51
END:VEVENT

END:VCALENDAR
