BEGIN:VCALENDAR
VERSION:2.0
PRODID:-//ChamberMaster//Event Calendar 2.0//EN
METHOD:PUBLISH
X-PUBLISHED-TTL:P3D
REFRESH-INTERVAL:P3D
CALSCALE:GREGORIAN
BEGIN:VEVENT
DTSTART;VALUE=DATE:20110321
DTEND;VALUE=DATE:20110322
TRANSP:TRANSPARENT
X-MICROSOFT-CDO-ALLDAYEVENT:TRUE
SUMMARY:Meet the FRG Candidates Forum
DESCRIPTION:The Cary Grove Chamber of Commerce has scheduled a "Meet the Candidates" forum on Monday\, March 21 at 7 p.m. at the Fox River Grove Village Hall\, 305 Illinois Street.  Meet face-to-face with the candidates\, hear their take on the issues and ask direct questions. \n\n	Candidates running for the Fox River Grove Board of Trustees four-year term include: Joanna Colletti\, John Gagliano\, Steve Knar\, Chester Olenchek and Michael Schiestel\; two-year term candidates are Suzanne Blohm and Michael Olencheck.  FRG residents have choices to make at the April 5 election.  Open to the public!  Chamber members and residents are encouraged to attend.\n\n	 For more information\, call the Chamber at (847) 639-2800. This event is free. Coffee and cookies will be served\, courtesy of the Chamber.
X-ALT-DESC;FMTTYPE=text/html:<p>\n	<font size="3"><span lang="EN" style="font-family: 'calibri'\, 'sans-serif'\; color: black\; mso-ascii-theme-font: minor-latin\; mso-hansi-theme-font: minor-latin\; mso-bidi-font-family: arial\; mso-ansi-language: en">The Cary Grove Chamber of Commerce has scheduled a &quot\;Meet the Candidates&quot\; forum on Monday\, March 21 at 7 p.m. at the Fox River Grove Village Hall\, 305 Illinois Street.&nbsp\; </span><span style="font-family: 'calibri'\, 'sans-serif'\; color: black\; mso-ascii-theme-font: minor-latin\; mso-hansi-theme-font: minor-latin\; mso-bidi-font-family: arial">Meet face-to-face with the candidates\, hear their take on the issues and ask direct questions. </span><span lang="EN" style="font-family: 'calibri'\, 'sans-serif'\; color: black\; mso-ascii-theme-font: minor-latin\; mso-hansi-theme-font: minor-latin\; mso-bidi-font-family: arial\; mso-ansi-language: en"><o:p></o:p></span></font></p>\n<p class="MsoNormal" style="line-height: 14.4pt\; margin: 0in 0in 0pt">\n	<font size="3"><span lang="EN" style="font-family: 'calibri'\, 'sans-serif'\; color: black\; mso-ascii-theme-font: minor-latin\; mso-hansi-theme-font: minor-latin\; mso-bidi-font-family: arial\; mso-ansi-language: en">Candidates running for the Fox River Grove Board of Trustees four-year term include: Joanna Colletti\, John Gagliano\, Steve Knar\, Chester Olenchek and Michael Schiestel\; two-year term candidates are Suzanne Blohm and Michael Olencheck.<span style="mso-spacerun: yes">&nbsp\; </span>FRG residents have choices to make at the April 5 election. <span style="mso-spacerun: yes">&nbsp\;</span>Open to the public!<span style="mso-spacerun: yes">&nbsp\; </span>Chamber members and residents are encouraged to attend.</span><span lang="EN" style="font-family: 'calibri'\, 'sans-serif'\; color: #222222\; mso-ascii-theme-font: minor-latin\; mso-hansi-theme-font: minor-latin\; mso-bidi-font-family: arial\; mso-ansi-language: en"><o:p></o:p></span></font></p>\n<p>\n	<font size="3"><span lang="EN" style="font-family: 'calibri'\, 'sans-serif'\; color: black\; mso-ascii-theme-font: minor-latin\; mso-hansi-theme-font: minor-latin\; mso-bidi-font-family: arial\; mso-ansi-language: en"><span style="mso-spacerun: yes">&nbsp\;</span>For more information\, call the Chamber at (847) 639-2800.&nbsp\;This event is free.&nbsp\;Coffee and cookies will be served\, courtesy of the Chamber.&nbsp\;</span><span lang="EN" style="font-family: 'calibri'\, 'sans-serif'\; color: #222222\; mso-ascii-theme-font: minor-latin\; mso-hansi-theme-font: minor-latin\; mso-bidi-font-family: arial\; mso-ansi-language: en">&nbsp\;<o:p></o:p></span></font></p>\n
LOCATION:Fox River Grove Village Hall\, 305 Illinois Street
UID:e.138.425
SEQUENCE:3
DTSTAMP:20260423T145945Z
URL:https://business.carygrovechamber.com/events/details/meet-the-frg-candidates-forum-03-21-2011-425
END:VEVENT

END:VCALENDAR
