BEGIN:VCALENDAR
VERSION:2.0
PRODID:-//ChamberMaster//Event Calendar 2.0//EN
METHOD:PUBLISH
X-PUBLISHED-TTL:P3D
REFRESH-INTERVAL:P3D
CALSCALE:GREGORIAN
BEGIN:VEVENT
DTSTART:20110307T140000Z
DTEND:20110307T153000Z
X-MICROSOFT-CDO-ALLDAYEVENT:FALSE
SUMMARY:Meet Your Leaders Legislative Breakfast
DESCRIPTION:Meet Your Leaders\n\n	Legislative Breakfast\n\n	 \n\n	Monday\, March 7\n\n	8 - 9:30 a.m.\n\n	 \n\n	Foxford Hills Golf Club\n\n	6800 S. Rawson Bridge Rd.\, Cary\n\n	 \n	\n		Cost is $15 and includes a breakfast buffet.  Public is welcome! Come out and learn what's current\, what's pressing and what's affecting our community and local business from State Senators Pamela Althoff and Dan Duffy\, Representatives Michael Tryon and Mark Beaubien\, McHenry County Board Chairman Ken Koehler and Committee Members Anna May Miller\, Robert Nowak\, Bob Bless and Mark Munaretto. To register\, call the Chamber by March 3 at (847) 639-2800.
X-ALT-DESC;FMTTYPE=text/html:<div>\n	<font size="4">Meet Your Leaders</font></div>\n<div>\n	<font size="4">Legislative Breakfast</font></div>\n<div>\n	&nbsp\;</div>\n<div>\n	Monday\, March 7</div>\n<div>\n	8 - 9:30 a.m.</div>\n<div>\n	&nbsp\;</div>\n<div>\n	Foxford Hills Golf Club</div>\n<div>\n	6800 S. Rawson Bridge Rd.\, Cary</div>\n<div>\n	&nbsp\;\n	<div style="line-height: 14.4pt\; margin: 0in 0in 0pt">\n		<span style="color: black\; font-size: 11pt">Cost is $15 and includes a breakfast buffet. &nbsp\;<b>Public is welcome!</b>&nbsp\;Come out and learn what&rsquo\;s current\, what&rsquo\;s pressing and what&rsquo\;s affecting our community and local business from State Senators Pamela Althoff and Dan Duffy\, Representatives Michael Tryon and Mark Beaubien\, McHenry County Board Chairman Ken Koehler and Committee Members Anna May Miller\, Robert Nowak\, Bob Bless and Mark Munaretto. To register\, call the Chamber by&nbsp\;March 3 at (847) 639-2800. </span></div>\n</div>\n
LOCATION:Foxford Hills Golf Club6800 S. Rawson Bridge Rd.\, Cary
UID:e.138.407
SEQUENCE:3
DTSTAMP:20260423T145850Z
URL:https://business.carygrovechamber.com/events/details/meet-your-leaders-legislative-breakfast-03-07-2011-407
END:VEVENT

END:VCALENDAR
