BEGIN:VCALENDAR
VERSION:2.0
PRODID:-//ChamberMaster//Event Calendar 2.0//EN
METHOD:PUBLISH
X-PUBLISHED-TTL:P3D
REFRESH-INTERVAL:P3D
CALSCALE:GREGORIAN
BEGIN:VEVENT
DTSTART;VALUE=DATE:20080517
DTEND;VALUE=DATE:20080518
TRANSP:TRANSPARENT
X-MICROSOFT-CDO-ALLDAYEVENT:TRUE
SUMMARY:Melissa Manchester
DESCRIPTION:One of America?s finest home-grown talents\, Grammy Award winning artist Melissa Manchester comes to Raue Center for an electric night! Manchester?s albums and her work with Bette Midler\, Paul Simon and Kenny Loggins have served to establish her as one of the most compelling singer-songwriters in contemporary music. Through the years\, she has had her songs recorded and performed by such artists as Diana Ross\, Sarah Vaughn\, Johnny Mathis\, Kenny Loggins\, The Captain and Tenille\, Mel Torme and Barbra Streisand.
X-ALT-DESC;FMTTYPE=text/html:One of America?s finest home-grown talents\, Grammy Award winning artist Melissa Manchester comes to Raue Center for an electric night! Manchester?s albums and her work with Bette Midler\, Paul Simon and Kenny Loggins have served to establish her as one of the most compelling singer-songwriters in contemporary music. Through the years\, she has had her songs recorded and performed by such artists as Diana Ross\, Sarah Vaughn\, Johnny Mathis\, Kenny Loggins\, The Captain and Tenille\, Mel Torme and Barbra Streisand.
LOCATION:Raue Center For The Arts 26 N. Williams Street Crystal Lake\, IL 60014
UID:e.138.180
SEQUENCE:3
DTSTAMP:20260425T152920Z
URL:https://business.carygrovechamber.com/events/details/melissa-manchester-05-17-2008-180
END:VEVENT

END:VCALENDAR
