BEGIN:VCALENDAR
VERSION:2.0
PRODID:-//ChamberMaster//Event Calendar 2.0//EN
METHOD:PUBLISH
X-PUBLISHED-TTL:P3D
REFRESH-INTERVAL:P3D
CALSCALE:GREGORIAN
BEGIN:VEVENT
DTSTART;VALUE=DATE:20090524
DTEND;VALUE=DATE:20090525
TRANSP:TRANSPARENT
X-MICROSOFT-CDO-ALLDAYEVENT:TRUE
SUMMARY:Memorial Day Ceremony at Windridge Memorial Park
DESCRIPTION:Windridge Memorial Park's annual Memorial Day Ceremony to honor Veterans and their families will be held on Sunday\, May 24 from 12:30 to 2 p.m. The event will involve local Veterans and their families\, the Cary-Grove Amvets and many more participants. Windridge Memorial Park is located on Rawson Bridge Road\, just south of Crystal Lake Avenue. Hot Dogs will be available. Donations can be made to Cary-Grove Amvets Post 245. If interested in helping out or donating\, please contact Kelly Hulata at (847) 639-3883.
X-ALT-DESC;FMTTYPE=text/html:<div>Windridge Memorial Park&rsquo\;s annual Memorial Day Ceremony to honor Veterans and their families will be held on Sunday\, May 24 from 12:30 to 2 p.m. The event will involve local Veterans and their families\, the Cary-Grove Amvets and many more participants. Windridge Memorial Park is located on Rawson Bridge Road\, just south of Crystal Lake Avenue. Hot Dogs will be available. Donations can be made to Cary-Grove Amvets Post 245. If interested in helping out or donating\, please contact Kelly Hulata at (847) 639-3883.</div>
LOCATION:Windridge Memorial Park7014 S. Rawson Bridge Rd.\, just south of Crystal Lake Avenue in Cary
UID:e.138.477
SEQUENCE:3
DTSTAMP:20260424T214915Z
URL:https://business.carygrovechamber.com/events/details/memorial-day-ceremony-at-windridge-memorial-park-05-24-2009-477
END:VEVENT

END:VCALENDAR
