BEGIN:VCALENDAR
VERSION:2.0
PRODID:-//ChamberMaster//Event Calendar 2.0//EN
METHOD:PUBLISH
X-PUBLISHED-TTL:P3D
REFRESH-INTERVAL:P3D
CALSCALE:GREGORIAN
BEGIN:VEVENT
DTSTART:20120619T233000Z
DTEND:20120620T010000Z
X-MICROSOFT-CDO-ALLDAYEVENT:FALSE
SUMMARY:Mens Health Tune Up
DESCRIPTION:6/19/2012\n\nMens Health Tune Up\n\nClass Code: 3N28\n\n\n\nMen lead very busy lives. Family commitments\, work\, staying fit and playing hard can interfere with their health. Daniel Shiba MD\, family medicine physician\, will provide information on current health issues men need to be aware of such as heart health\, Prostate health\, and Impotency. Bring all of your questions.
X-ALT-DESC;FMTTYPE=text/html:6/19/2012<br />\nMens Health Tune Up<br />\nClass Code: 3N28<br />\n<br />\nMen lead very busy lives. Family commitments\, work\, staying fit and playing hard can interfere with their health. Daniel Shiba MD\, family medicine physician\, will provide information on current health issues men need to be aware of such as heart health\, Prostate health\, and Impotency. Bring all of your questions.<br />\n
LOCATION:Advocate Good Shepherd Hospital 450 W. Highway 22 Barrington\, IL
UID:e.138.2727
SEQUENCE:3
DTSTAMP:20260424T061631Z
URL:https://business.carygrovechamber.com/events/details/mens-health-tune-up-06-19-2012-2727
END:VEVENT

END:VCALENDAR
