BEGIN:VCALENDAR
VERSION:2.0
PRODID:-//ChamberMaster//Event Calendar 2.0//EN
METHOD:PUBLISH
X-PUBLISHED-TTL:P3D
REFRESH-INTERVAL:P3D
CALSCALE:GREGORIAN
BEGIN:VEVENT
DTSTART:20080320T220000Z
DTEND:20080321T000000Z
X-MICROSOFT-CDO-ALLDAYEVENT:FALSE
SUMMARY:Merlin 200\,000 Mile Shop Mixer
DESCRIPTION:Merlin 200\,000 Mile Shop Mixer Meet the 16 Queen Contestants running\n for Miss Cary and Miss Fox River Grove
X-ALT-DESC;FMTTYPE=text/html:<h2>Merlin 200\,000 Mile Shop Mixer</h2><div>&nbsp\;</div><div><font size="4">Meet the 16 Queen Contestants running<br />&nbsp\;for Miss Cary and Miss Fox River Grove</font></div>
LOCATION:534 W. Northwest Hwy.Cary
UID:e.138.211
SEQUENCE:3
DTSTAMP:20260425T165726Z
URL:https://business.carygrovechamber.com/events/details/merlin-200-000-mile-shop-mixer-03-20-2008-211
END:VEVENT

END:VCALENDAR
