BEGIN:VCALENDAR
VERSION:2.0
PRODID:-//ChamberMaster//Event Calendar 2.0//EN
METHOD:PUBLISH
X-PUBLISHED-TTL:P3D
REFRESH-INTERVAL:P3D
CALSCALE:GREGORIAN
BEGIN:VEVENT
DTSTART;VALUE=DATE:20100318
DTEND;VALUE=DATE:20100319
TRANSP:TRANSPARENT
X-MICROSOFT-CDO-ALLDAYEVENT:TRUE
SUMMARY:Merrill Lynch Portfollio 2010 Seminar
DESCRIPTION:Dan Iscra of Merrill Lynch invites you to a free informational seminar on Thursday\, March 18 at 6:30 p.m. at Millrose Restaurant in South Barrington.  Blackrock's Chris Schneider will be the keynote speaker.  Learn how to recover after a year of market uncertainty. This seminar is designed to help you understand the current market conditions and what they mean for you and your investments\; take time to re-examine your portfolio\; position your portfolio to take advantage of current market opportunities\; and position your investments to meet your financial objectives in the long term. Join Merrill Lynch and learn how to take advantage of market opportunities and to stay on track for long-term growth.  Hors d'oeuvres will be served.  Seating is limited. Reservations are required by calling Dan Iscra at (815) 788-2447 or daniel_iscra@ml.com. He is located at 360 Memorial Drive\, Suite 210 in Crystal Lake.
X-ALT-DESC;FMTTYPE=text/html:<div><p class="MsoNormal" style="line-height: 14.4pt\; margin: 0in 0in 0pt"><b style="mso-bidi-font-weight: normal"><span style="font-family: Arial\; color: black\; font-size: 11pt\; mso-bidi-font-size: 12.0pt\; mso-bidi-font-family: 'Times New Roman'\; mso-font-kerning: 1.0pt">Dan Iscra of Merrill Lynch</span></b><span style="font-family: Arial\; color: black\; font-size: 11pt\; mso-bidi-font-size: 12.0pt\; mso-bidi-font-family: 'Times New Roman'\; mso-font-kerning: 1.0pt"> invites you to a free informational seminar on Thursday\, March 18 at </span><st1:time hour="18" minute="30"><span style="font-family: Arial\; color: black\; font-size: 11pt\; mso-bidi-font-size: 12.0pt\; mso-bidi-font-family: 'Times New Roman'\; mso-font-kerning: 1.0pt">6:30 p.m.</span></st1:time><span style="font-family: Arial\; color: black\; font-size: 11pt\; mso-bidi-font-size: 12.0pt\; mso-bidi-font-family: 'Times New Roman'\; mso-font-kerning: 1.0pt"> at Millrose Restaurant in </span><st1:place><span style="font-family: Arial\; color: black\; font-size: 11pt\; mso-bidi-font-size: 12.0pt\; mso-bidi-font-family: 'Times New Roman'\; mso-font-kerning: 1.0pt">South Barrington</span></st1:place><span style="font-family: Arial\; color: black\; font-size: 11pt\; mso-bidi-font-size: 12.0pt\; mso-bidi-font-family: 'Times New Roman'\; mso-font-kerning: 1.0pt">.<span style="mso-spacerun: yes">&nbsp\; </span>Blackrock&rsquo\;s Chris Schneider will be the keynote speaker.<span style="mso-spacerun: yes">&nbsp\; </span>Learn how to recover after a year of market uncertainty. This seminar is designed to help you u<span style="mso-bidi-font-style: italic">nderstand the current market conditions and what they mean for you and your investments\; take time to re-examine your portfolio\; position your portfolio to take advantage of </span></span><span class="yshortcuts"><span style="font-family: Arial\; color: black\; font-size: 11pt\; mso-bidi-font-size: 12.0pt\; mso-font-kerning: 1.0pt\; mso-bidi-font-style: italic">current market opportunities</span></span><span style="font-family: Arial\; color: black\; font-size: 11pt\; mso-bidi-font-size: 12.0pt\; mso-bidi-font-family: 'Times New Roman'\; mso-font-kerning: 1.0pt\; mso-bidi-font-style: italic">\; and position your investments to meet your financial objectives in the long term<i>.</i></span><span style="font-family: Arial\; color: black\; font-size: 11pt\; mso-bidi-font-size: 12.0pt\; mso-bidi-font-family: 'Times New Roman'\; mso-font-kerning: 1.0pt"> </span><span class="yshortcuts"><span style="font-family: Arial\; color: black\; font-size: 11pt\; mso-bidi-font-size: 12.0pt\; mso-font-kerning: 1.0pt">J</span></span><span style="font-family: Arial\; color: black\; font-size: 11pt\; mso-bidi-font-size: 12.0pt\; mso-bidi-font-family: 'Times New Roman'\; mso-font-kerning: 1.0pt">oin Merrill Lynch and learn how to take advantage of </span><span class="yshortcuts"><span style="font-family: Arial\; color: black\; font-size: 11pt\; mso-bidi-font-size: 12.0pt\; mso-font-kerning: 1.0pt">market opportunities and </span></span><span style="font-family: Arial\; color: black\; font-size: 11pt\; mso-bidi-font-size: 12.0pt\; mso-bidi-font-family: 'Times New Roman'\; mso-font-kerning: 1.0pt">to stay on track for long-term growth.<span style="mso-spacerun: yes">&nbsp\; </span>Hors d&rsquo\;oeuvres will be served. <span style="mso-spacerun: yes">&nbsp\;</span>Seating is limited. Reservations are required by calling Dan Iscra at (815) 788-2447 or <a href="http://us.mc802.mail.yahoo.com/mc/compose?to=daniel_iscra@ml.com" target="_blank"><span style="color: black\; mso-fareast-font-family: Batang\; mso-bidi-font-family: Arial">daniel_iscra@ml.com</span></a>. He is located at </span><st1:street><st1:address><span style="font-family: Arial\; color: black\; font-size: 11pt\; mso-bidi-font-size: 12.0pt\; mso-bidi-font-family: 'Times New Roman'\; mso-font-kerning: 1.0pt">360 Mem</span><span style="font-family: Arial\; color: black\; font-size: 11pt\; mso-bidi-font-size: 10.0pt\; mso-bidi-font-family: 'Times New Roman'\; mso-font-kerning: 1.0pt">orial Drive\, Suite 210</span></st1:address></st1:street><span style="font-family: Arial\; color: black\; font-size: 11pt\; mso-bidi-font-size: 10.0pt\; mso-bidi-font-family: 'Times New Roman'\; mso-font-kerning: 1.0pt"> in </span><st1:city><st1:place><span style="font-family: Arial\; color: black\; font-size: 11pt\; mso-bidi-font-size: 10.0pt\; mso-bidi-font-family: 'Times New Roman'\; mso-font-kerning: 1.0pt">Crystal Lake</span></st1:place></st1:city><span style="font-family: Arial\; color: black\; font-size: 11pt\; mso-bidi-font-size: 10.0pt\; mso-bidi-font-family: 'Times New Roman'\; mso-font-kerning: 1.0pt">.</span><span style="font-family: Arial\; color: black\; font-size: 11pt\; mso-bidi-font-size: 12.0pt\; mso-bidi-font-family: 'Times New Roman'\; mso-font-kerning: 1.0pt"> <o:p></o:p></span></p></div>
LOCATION:Millrose Restaurant in South Barrington
UID:e.138.778
SEQUENCE:3
DTSTAMP:20260424T110540Z
URL:https://business.carygrovechamber.com/events/details/merrill-lynch-portfollio-2010-seminar-03-18-2010-778
END:VEVENT

END:VCALENDAR
