BEGIN:VCALENDAR
VERSION:2.0
PRODID:-//ChamberMaster//Event Calendar 2.0//EN
METHOD:PUBLISH
X-PUBLISHED-TTL:P3D
REFRESH-INTERVAL:P3D
CALSCALE:GREGORIAN
BEGIN:VEVENT
DTSTART;VALUE=DATE:20091206
DTEND;VALUE=DATE:20091207
TRANSP:TRANSPARENT
X-MICROSOFT-CDO-ALLDAYEVENT:TRUE
SUMMARY:Merry Cary Holiday Parade and Festival
DESCRIPTION:Don't miss the Merry Cary Holiday Parade and Celebration on Sunday\, December 6 from 1:00 to 3:30 p.m. in downtown Cary. There are lots of free activities including horse-drawn sleigh rides\, petting zoo\, pony rides\, children's train rides and visits with Santa. Bring your camera to take your photo with Santa at Cary Travel Express.
X-ALT-DESC;FMTTYPE=text/html:<div>Don&rsquo\;t miss the Merry Cary Holiday Parade and Celebration on Sunday\, December 6 from 1:00 to 3:30 p.m. in downtown Cary. There are lots of free activities including horse-drawn sleigh rides\, petting zoo\, pony rides\, children's train rides and visits with Santa. Bring your camera to take your photo with Santa at Cary Travel Express.</div>
LOCATION:Downtown Cary on Main Street
UID:e.138.633
SEQUENCE:3
DTSTAMP:20260424T130050Z
URL:https://business.carygrovechamber.com/events/details/merry-cary-holiday-parade-and-festival-12-06-2009-633
END:VEVENT

END:VCALENDAR
