BEGIN:VCALENDAR
VERSION:2.0
PRODID:-//ChamberMaster//Event Calendar 2.0//EN
METHOD:PUBLISH
X-PUBLISHED-TTL:P3D
REFRESH-INTERVAL:P3D
CALSCALE:GREGORIAN
BEGIN:VEVENT
DTSTART:20091206T190000Z
DTEND:20091206T220000Z
X-MICROSOFT-CDO-ALLDAYEVENT:FALSE
SUMMARY:Merry Cary Holiday Parade & Celebration
DESCRIPTION:Merry Cary Parade Location and Instructions Merry Cary Parade line up begins at 12 noon down Wulff Street.  The street will be numbered 1 to 50 on the right side and 51 to 100 on th left side.  Wulff Street will be one way during the parade.  Vehicles dropping off parade participants should head south on Briargate Road to Glen Garry Road.  Proceed east on Glen Garry to Wulff Street and drop off participants at the corner.  The streets will be marked.  The parade kicks off at 1 p.m. and heads down W. Main Street into the downtown area\, turning at Jandus Road.  The parade ends at Jandus Road and Cary Street.  Participants are encouraged to stay downtown and enjoy the holiday activities.
X-ALT-DESC;FMTTYPE=text/html:<div align="center"><font color="#ff0000" size="4">Merry Cary Parade Location and Instructions</font></div><div><font color="#ff0000" size="4">&nbsp\;</font></div><div><font size="2">Merry Cary Parade line up begins at 12 noon down Wulff Street.&nbsp\; The street will be numbered 1 to 50 on the right side and 51 to 100 on th left side.&nbsp\; Wulff Street will be one way during the parade.&nbsp\;</font></div><div><font size="2">&nbsp\;</font></div><div><font size="2">Vehicles dropping off parade participants should head south on Briargate Road to Glen Garry Road.&nbsp\; Proceed east on Glen Garry to Wulff Street and drop off participants at the corner.&nbsp\; The streets will be marked.&nbsp\;</font></div><div><font size="2">&nbsp\;</font></div><div><font size="2">The parade kicks off at&nbsp\;1 p.m. and heads down W. Main Street into the downtown area\, turning&nbsp\;at Jandus Road.&nbsp\; The parade ends at Jandus Road and Cary Street.&nbsp\; Participants are encouraged to stay downtown and enjoy the holiday activities.</font></div><div><font size="2">&nbsp\;</font></div><div><font size="2">&nbsp\;</font></div>
LOCATION:Merry Cary Parade Location and Instructions Merry Cary Parade line up begins at 12 noon down Wulff Street. The street will be numbered 1 to 50 on the right side and 51 to 100 on th left side. Wulff Street will be one way during the parade. Vehicles dropping off parade participants should head south on Briargate Road to Glen Garry Road. Proceed east on Glen Garry to Wulff Street and drop off participants at the corner. The streets will be marked. The parade kicks off at 1 p.m. and heads down W. Main Street into the downtown area\, turning at Jandus Road. The parade ends at Jandus Road and Cary Street. Participants are encouraged to stay downtown and enjoy the holiday activities.
UID:e.138.317
SEQUENCE:3
DTSTAMP:20260424T113007Z
URL:https://business.carygrovechamber.com/events/details/merry-cary-holiday-parade-celebration-12-06-2009-317
END:VEVENT

END:VCALENDAR
