BEGIN:VCALENDAR
VERSION:2.0
PRODID:-//ChamberMaster//Event Calendar 2.0//EN
METHOD:PUBLISH
X-PUBLISHED-TTL:P3D
REFRESH-INTERVAL:P3D
CALSCALE:GREGORIAN
BEGIN:VEVENT
DTSTART:20090924T163000Z
DTEND:20090924T180000Z
X-MICROSOFT-CDO-ALLDAYEVENT:FALSE
SUMMARY:Mid Day Health Connections-Latest Developments in Breast Cancer Screenings
DESCRIPTION:In 2008\, approximately 180\,000 new cases of breast cancer were diagnosed among women in the United States. Please join Kevin Kirshenbaum M.D.\, board certified radiologist with Wellington Radiology Group for information on the history of breast cancer\, screening for breast cancer and the importance of early detection. A light meal will be served!
X-ALT-DESC;FMTTYPE=text/html:<div>In 2008\, approximately 180\,000 new cases of breast cancer were diagnosed among women in the United States.</div><div>&nbsp\;</div><div>Please join Kevin Kirshenbaum M.D.\, board certified radiologist with Wellington Radiology Group for information on the history of breast cancer\, screening for breast cancer and the importance of early detection. A light meal will be served!</div>
LOCATION:Advocate Good Shepherd Outpatient Center525 Congress ParkwayCrystal Lake\, IL
UID:e.138.558
SEQUENCE:3
DTSTAMP:20260424T151346Z
URL:https://business.carygrovechamber.com/events/details/mid-day-health-connections-latest-developments-in-breast-cancer-screenings-09-24-2009-558
END:VEVENT

END:VCALENDAR
