BEGIN:VCALENDAR
VERSION:2.0
PRODID:-//ChamberMaster//Event Calendar 2.0//EN
METHOD:PUBLISH
X-PUBLISHED-TTL:P3D
REFRESH-INTERVAL:P3D
CALSCALE:GREGORIAN
BEGIN:VEVENT
DTSTART:20091014T163000Z
DTEND:20091014T180000Z
X-MICROSOFT-CDO-ALLDAYEVENT:FALSE
SUMMARY:Mid Day Health Connections-The Menopause Journey
DESCRIPTION:Menopause is a time of change\, challenge and personal freedom. Please join Samreen Akbar\, M.D. with Barrington Health Care for Women\, to learn the best ways to treat your symptoms while living a busy and active life. A light meal will be served.
X-ALT-DESC;FMTTYPE=text/html:<div>Menopause is a time of change\, challenge and personal freedom.</div><div>&nbsp\;</div><div>Please join Samreen Akbar\, M.D. with Barrington Health Care for Women\, to learn the best ways to treat your symptoms while living a busy and active life. A light meal will be served.</div>
LOCATION:Advocate Good Shepherd Outpatient Center525 Congress ParkwayCrystal Lake\, IL
UID:e.138.559
SEQUENCE:3
DTSTAMP:20260424T153503Z
URL:https://business.carygrovechamber.com/events/details/mid-day-health-connections-the-menopause-journey-10-14-2009-559
END:VEVENT

END:VCALENDAR
