BEGIN:VCALENDAR
VERSION:2.0
PRODID:-//ChamberMaster//Event Calendar 2.0//EN
METHOD:PUBLISH
X-PUBLISHED-TTL:P3D
REFRESH-INTERVAL:P3D
CALSCALE:GREGORIAN
BEGIN:VEVENT
DTSTART:20100110T013000Z
DTEND:20100110T033000Z
X-MICROSOFT-CDO-ALLDAYEVENT:FALSE
SUMMARY:Mike Toomey's TV and Me
DESCRIPTION:This one-man show takes you on a hilarious journey back into 60s and 70s TV-land. A witty and warm exploration of Toomey's only childhood outlet - being glued to the tube.\n\nA master impressionist\, Toomey re-creates some of our favorite television characters in a nostalgic and uproarious performance that is guaranteed to leave audiences laughing in the aisles. \n\nWith over 200 slides and sound bytes\, this theatrical sensation enjoyed a successful run at Chicago's Apollo Theater and will resonate with all ages -TV & ME is an evening of clean\, laugh-out-loud fun that will inspire word-of-mouth buzz and repeat visits. \n\nToomey's weekly characters on Chicago's WGN-TV have garnered him praise and The Chicago Tribune calls Mike\, "One of the funniest and most talented performers to ever work in Chicago." With his sharp delivery\, quick wit\, and identifiable style\, Mike has been a favorite at corporate functions and special events since 1982. He is regularly requested to open for Joan Rivers and Weird Al Yankovic among others. He has also performed on numerous television programs including: HBO's U.S. Comedy Arts Festival in Aspen\, Colorado\; MTV's Half Hour Comedy Hour\, A&E's Comedy on the Road and Comedy Central's Comics Only. \n\nThis event is sponsored by Nippersink Studio Photography and Schaumburg Audi.
X-ALT-DESC;FMTTYPE=text/html:<div>This one-man show takes you on a hilarious journey back into 60s and 70s TV-land. A witty and warm exploration of Toomey's only childhood outlet - being glued to the tube.<br /><br />A master impressionist\, Toomey re-creates some of our favorite television characters in a nostalgic and uproarious performance that is guaranteed to leave audiences laughing in the aisles. <br /><br />With over 200 slides and sound bytes\, this theatrical sensation enjoyed a successful run at Chicago's Apollo Theater and will resonate with all ages -TV &amp\; ME is an evening of clean\, laugh-out-loud fun that will inspire word-of-mouth buzz and repeat visits. <br /><br />Toomey's weekly characters on Chicago's WGN-TV have garnered him praise and The Chicago Tribune calls Mike\, &quot\;One of the funniest and most talented performers to ever work in Chicago.&quot\; With his sharp delivery\, quick wit\, and identifiable style\, Mike has been a favorite at corporate functions and special events since 1982. He is regularly requested to open for Joan Rivers and Weird Al Yankovic among others. He has also performed on numerous television programs including: HBO's U.S. Comedy Arts Festival in Aspen\, Colorado\; MTV's Half Hour Comedy Hour\, A&amp\;E's Comedy on the Road and Comedy Central's Comics Only. <br /><br />This event is sponsored by Nippersink Studio Photography and Schaumburg Audi.</div>
LOCATION:Raue Center For The Arts 26 North Williams Street Crystal Lake\, IL 60014
UID:e.138.663
SEQUENCE:3
DTSTAMP:20260424T112918Z
URL:https://business.carygrovechamber.com/events/details/mike-toomey-s-tv-and-me-01-09-2010-663
END:VEVENT

END:VCALENDAR
